Workbook

Sheet Detailed Dashboard
A1: Ticker | B1: Name (Click to Read Analysis) | C1: Recommendation | D1: Price at Time of Recommendation | E1: Stock Price | F1: Fair Value Price | G1: Percent Fair Value | H1: Dividend Yield | I1: Valuation Return | J1: Growth Return | K1: Expected Total Return | L1: Dividend Risk Score | M1: Retirement Suitability Score | N1: P/E Ratio | O1: Forward EPS Estimate (or Similar Metric) | P1: Annual Dividend Payments | Q1: Payout Ratio | R1: Years of Dividend Growth | S1: Dividend Growth Rate | T1: Ex-Dividend Date | U1: Trailing 1-Year Total Return | V1: Security Type | W1: Sector | X1: Market Cap (millions) | Y1: Last Report Upload | Z1: Analyst
A2: ALB | B2: =HYPERLINK("https://www.suredividend.com/sure-analysis-ALB/","Albemarle Corp.") -> 0 | C2: Buy | D2: 209 | E2: 220.18 | F2: 419 | G2: 0.52548926 | H2: 0.0072667817 | I2: 0.13733193 | J2: 0.05 | K2: 0.19863116 | L2: A | M2: C | N2: 9.4701075 | O2: 23.25 | P2: 1.6 | Q2: 0.068817204 | R2: 28 | S2: 0.075280006 | T2: 2023-06-15 | U2: -0.014106012 | V2: Stock | W2: Materials | X2: 25835.138 | Y2: 45064 | Z2: Nathan Parsh
A3: MDU | B3: =HYPERLINK("https://www.suredividend.com/sure-analysis-MDU/","MDU Resources Group Inc") -> 0 | C3: Buy | D3: 29 | E3: 19.92 | F3: 32 | G3: 0.6225 | H3: 0.044678715 | I3: 0.099441507 | J3: 0.06 | K3: 0.19045518 | L3: A | M3: A | N3: 9.4857143 | O3: 2.1 | P3: 0.89 | Q3: 0.42380952 | R3: 32 | S3: 0.025619509 | T3: 2023-06-12 | U3: 0.065668049 | V3: Stock | W3: Industrials | X3: 4056.4764 | Y3: 45054 | Z3: Josh Arnold
A4: WRB | B4: =HYPERLINK("https://www.suredividend.com/sure-analysis-WRB/","W.R. Berkley Corp.") -> 0 | C4: Buy | D4: 58 | E4: 58.21 | F4: 76 | G4: 0.76592105 | H4: 0.0075588387 | I4: 0.054783187 | J4: 0.12 | K4: 0.18620379 | L4: A | M4: C | N4: 11.526733 | O4: 5.05 | P4: 0.44 | Q4: 0.087128713 | R4: 18 | S4: 0.077818068 | T4: 2023-06-23 | U4: -0.13296304 | V4: Stock | W4: Financials | X4: 15179.694 | Y4: 45043 | Z4: Yiannis Zourmpanos
A5: SON | B5: =HYPERLINK("https://www.suredividend.com/sure-analysis-SON/","Sonoco Products Co.") -> 0 | C5: Buy | D5: 60 | E5: 57.34 | F5: 94 | G5: 0.61 | H5: 0.035577258 | I5: 0.10391093 | J5: 0.05 | K5: 0.18110643 | L5: A | M5: A | N5: 9.8017094 | O5: 5.85 | P5: 2.04 | Q5: 0.34871795 | R5: 41 | S5: 0.049708312 | T5: 2023-05-09 | U5: 0.032665661 | V5: Stock | W5: Consumer Discretionary | X5: 5616.7792 | Y5: 45049 | Z5: Nathan Parsh
A6: HUM | B6: =HYPERLINK("https://www.suredividend.com/sure-analysis-HUM/","Humana Inc.") -> 0 | C6: Buy | D6: 530 | E6: 445.95 | F6: 509 | G6: 0.87612967 | H6: 0.0079381097 | I6: 0.026801094 | J6: 0.14 | K6: 0.17602039 | L6: A | M6: C | N6: 15.785841 | O6: 28.25 | P6: 3.54 | Q6: 0.12530973 | R6: 12 | S6: 0.090130895 | T6: 2023-03-30 | U6: -0.017255924 | V6: Stock | W6: Health Care | X6: 55719.22 | Y6: 45047 | Z6: Patrick Neuwirth
A7: WABC | B7: =HYPERLINK("https://www.suredividend.com/sure-analysis-WABC/","Westamerica Bancorporation") -> 0 | C7: Buy | D7: 41 | E7: 38.94 | F7: 70 | G7: 0.55628571 | H7: 0.043143297 | I7: 0.1244507 | J7: 0.02 | K7: 0.17222582 | L7: A | M7: A | N7: 7.2379182 | O7: 5.38 | P7: 1.68 | Q7: 0.31226766 | R7: 29 | S7: 0.019465397 | T7: 2023-05-05 | U7: -0.28985148 | V7: Stock | W7: Financials | X7: 1037.6841 | Y7: 45036 | Z7: Nathan Parsh
A8: MMM | B8: =HYPERLINK("https://www.suredividend.com/sure-analysis-MMM/","3M Co.") -> 0 | C8: Buy | D8: 106 | E8: 100.72 | F8: 149 | G8: 0.67597315 | H8: 0.059571088 | I8: 0.081469088 | J8: 0.05 | K8: 0.17124585 | L8: A | M8: A | N8: 11.510857 | O8: 8.75 | P8: 6 | Q8: 0.68571429 | R8: 65 | S8: 0.019861853 | T8: 2023-05-18 | U8: -0.21169003 | V8: Stock | W8: Industrials | X8: 55564.426 | Y8: 45042 | Z8: Nathan Parsh
A9: BMY | B9: =HYPERLINK("https://www.suredividend.com/sure-analysis-BMY/","Bristol-Myers Squibb Co.") -> 0 | C9: Buy | D9: 67 | E9: 65.04 | F9: 109 | G9: 0.59669725 | H9: 0.035055351 | I9: 0.10878973 | J9: 0.03 | K9: 0.16502278 | L9: A | M9: A | N9: 8.0296296 | O9: 8.1 | P9: 2.28 | Q9: 0.28148148 | R9: 16 | S9: 0.050005632 | T9: 2023-04-06 | U9: -0.15070872 | V9: Stock | W9: Health Care | X9: 136639.1 | Y9: 45047 | Z9: Nathan Parsh
A10: WBA | B10: =HYPERLINK("https://www.suredividend.com/sure-analysis-WBA/","Walgreens Boots Alliance Inc") -> 0 | C10: Buy | D10: 35 | E10: 31.4 | F10: 46 | G10: 0.6826087 | H10: 0.061146497 | I10: 0.079358303 | J10: 0.04 | K10: 0.16294728 | L10: A | M10: A | N10: 6.9010989 | O10: 4.55 | P10: 1.92 | Q10: 0.42197802 | R10: 47 | S10: 0.040358275 | T10: 2023-05-18 | U10: -0.19397483 | V10: Stock | W10: Consumer Staples | X10: 27091.786 | Y10: 45016 | Z10: Aristofanis Papadatos
A11: CATC | B11: =HYPERLINK("https://www.suredividend.com/sure-analysis-CATC/","Cambridge Bancorp") -> 0 | C11: Buy | D11: 54 | E11: 57.86 | F11: 77 | G11: 0.75142857 | H11: 0.0463187 | I11: 0.058820788 | J11: 0.06 | K11: 0.15526783 | L11: A | M11: A | N11: 7.5142857 | O11: 7.7 | P11: 2.68 | Q11: 0.34805195 | R11: 24 | S11: 0.060210085 | T11: 2023-05-10 | U11: -0.2671181 | V11: Stock | W11: Financials | X11: 453.27507 | Y11: 45043 | Z11: Patrick Neuwirth
A12: OZK | B12: =HYPERLINK("https://www.suredividend.com/sure-analysis-OZK/","Bank OZK") -> 0 | C12: Buy | D12: 38 | E12: 37.58 | F12: 59 | G12: 0.63694915 | H12: 0.037253858 | I12: 0.094407466 | J12: 0.03 | K12: 0.15394314 | L12: A | M12: A | N12: 6.9592593 | O12: 5.4 | P12: 1.4 | Q12: 0.25925926 | R12: 27 | S12: 0.065208538 | T12: 2023-04-13 | U12: 0.04484376 | V12: Stock | W12: Financials | X12: 4568.8703 | Y12: 45041 | Z12: Aristofanis Papadatos
A13: CPKF | B13: =HYPERLINK("https://www.suredividend.com/sure-analysis-CPKF/","Chesapeake Financial Shares Inc") -> 0 | C13: Buy | D13: 20 | E13: 20 | F13: 29 | G13: 0.68965517 | H13: 0.03 | I13: 0.077143588 | J13: 0.05 | K13: 0.15158553 | L13: A | M13: A | N13: 5.7971014 | O13: 3.45 | P13: 0.6 | Q13: 0.17391304 | R13: 30 | S13: 0.051157746 | T13: 2023-05-31 | U13: -0.23798202 | V13: Stock | W13: Financials | X13: 93.76862 | Y13: 45054 | Z13: Josh Arnold
A14: WLY | B14: =HYPERLINK("https://www.suredividend.com/sure-analysis-WLY/","John Wiley & Sons Inc.") -> 0 | C14: Hold | D14: 39 | E14: 30.79 | F14: 45 | G14: 0.68422222 | H14: 0.045144527 | I14: 0.078848756 | J14: 0.04 | K14: 0.15154368 | L14: A | M14: A | N14: 8.9766764 | O14: 3.43 | P14: 1.39 | Q14: 0.40524781 | R14: 29 | S14: 0.029822118 | T14: 2023-04-10 | U14: -0.33568795 | V14: Stock | W14: Communication Services | X14: 1724.1701 | Y14: 45034 | Z14: Jonathan Weber
A15: AIZ | B15: =HYPERLINK("https://www.suredividend.com/sure-analysis-AIZ/","Assurant Inc") -> 0 | C15: Buy | D15: 129 | E15: 123.81 | F15: 164 | G15: 0.75493902 | H15: 0.022615298 | I15: 0.057834252 | J15: 0.07 | K15: 0.14836002 | L15: A | M15: B | N15: 10.404202 | O15: 11.9 | P15: 2.8 | Q15: 0.23529412 | R15: 17 | S15: 0.070155539 | T15: 2023-05-26 | U15: -0.27278985 | V15: Stock | W15: Financials | X15: 6580.7491 | Y15: 45058 | Z15: Aristofanis Papadatos
A16: WSM | B16: =HYPERLINK("https://www.suredividend.com/sure-analysis-WSM/","Williams-Sonoma, Inc.") -> 0 | C16: Buy | D16: 112 | E16: 120.16 | F16: 186 | G16: 0.64602151 | H16: 0.029960053 | I16: 0.091316207 | J16: 0.03 | K16: 0.14564481 | L16: A | M16: B | N16: 8.7708029 | O16: 13.7 | P16: 3.6 | Q16: 0.26277372 | R16: 17 | S16: 0.06010506 | T16: 2023-04-20 | U16: -0.021815405 | V16: Stock | W16: Consumer Discretionary | X16: 7716.96 | Y16: 45070 | Z16: Aristofanis Papadatos
A17: AFG | B17: =HYPERLINK("https://www.suredividend.com/sure-analysis-AFG/","American Financial Group Inc") -> 0 | C17: Buy | D17: 115 | E17: 116.03 | F17: 143 | G17: 0.8113986 | H17: 0.022407998 | I17: 0.042685056 | J17: 0.08 | K17: 0.14322787 | L17: A | M17: B | N17: 10.548182 | O17: 11 | P17: 2.6 | Q17: 0.23636364 | R17: 17 | S17: 0.079985695 | T17: 2023-04-13 | U17: -0.10215528 | V17: Stock | W17: Financials | X17: 9883.3972 | Y17: 45052 | Z17: Tiago Dias
A18: EBTC | B18: =HYPERLINK("https://www.suredividend.com/sure-analysis-EBTC/","Enterprise Bancorp, Inc.") -> 0 | C18: Buy | D18: 28 | E18: 29 | F18: 44 | G18: 0.65909091 | H18: 0.031724138 | I18: 0.086953426 | J18: 0.03 | K18: 0.14303945 | L18: A | M18: A | N18: 7.9452055 | O18: 3.65 | P18: 0.92 | Q18: 0.25205479 | R18: 29 | S18: 0.064918921 | T18: 2023-05-10 | U18: -0.07472106 | V18: Stock | W18: Financials | X18: 354.43525 | Y18: 45042 | Z18: Aristofanis Papadatos
A19: NWFL | B19: =HYPERLINK("https://www.suredividend.com/sure-analysis-NWFL/","Norwood Financial Corp.") -> 0 | C19: Buy | D19: 27 | E19: 30.73 | F19: 36 | G19: 0.85361111 | H19: 0.037748129 | I19: 0.03216229 | J19: 0.08 | K19: 0.14175434 | L19: A | M19: A | N19: 8.5361111 | O19: 3.6 | P19: 1.16 | Q19: 0.32222222 | R19: 31 | S19: 0.049930967 | T19: 2023-04-13 | U19: 0.36530447 | V19: Stock | W19: Financials | X19: 249.34829 | Y19: 45040 | Z19: Patrick Neuwirth
A20: CTBI | B20: =HYPERLINK("https://www.suredividend.com/sure-analysis-CTBI/","Community Trust Bancorp, Inc.") -> 0 | C20: Buy | D20: 36 | E20: 36.59 | F20: 55 | G20: 0.66527273 | H20: 0.048100574 | I20: 0.084925847 | J20: 0.02 | K20: 0.14040988 | L20: A | M20: A | N20: 8.0417582 | O20: 4.55 | P20: 1.76 | Q20: 0.38681319 | R20: 42 | S20: 0.037921812 | T20: 2023-06-14 | U20: -0.047274356 | V20: Stock | W20: Financials | X20: 658.02358 | Y20: 45036 | Z20: Aristofanis Papadatos
A21: HIFS | B21: =HYPERLINK("https://www.suredividend.com/sure-analysis-HIFS/","Hingham Institution For Savings") -> 0 | C21: Buy | D21: 214 | E21: 202.09 | F21: 242 | G21: 0.83508264 | H21: 0.012469692 | I21: 0.036702411 | J21: 0.09 | K21: 0.13981592 | L21: A | M21: C | N21: 9.1859091 | O21: 22 | P21: 2.52 | Q21: 0.11454545 | R21: 15 | S21: 0.090149944 | T21: 2023-04-28 | U21: -0.27356031 | V21: Stock | W21: Financials | X21: 425.60154 | Y21: 45032 | Z21: Patrick Neuwirth
A22: SWK | B22: =HYPERLINK("https://www.suredividend.com/sure-analysis-SWK/","Stanley Black & Decker Inc") -> 0 | C22: Buy | D22: 80 | E22: 87.81 | F22: 101 | G22: 0.86940594 | H22: 0.036442319 | I22: 0.028384398 | J22: 0.08 | K22: 0.13497782 | L22: A | M22: A | N22: 10.47852 | O22: 8.38 | P22: 3.2 | Q22: 0.38186158 | R22: 55 | S22: 0.019823336 | T22: 2023-06-02 | U22: -0.17870257 | V22: Stock | W22: Industrials | X22: 13447.461 | Y22: 45071 | Z22: Nathan Parsh
A23: ABM | B23: =HYPERLINK("https://www.suredividend.com/sure-analysis-ABM/","ABM Industries Inc.") -> 0 | C23: Buy | D23: 42 | E23: 40.53 | F23: 56 | G23: 0.72375 | H23: 0.021712312 | I23: 0.066798226 | J23: 0.05 | K23: 0.13482999 | L23: A | M23: B | N23: 11.58 | O23: 3.5 | P23: 0.88 | Q23: 0.25142857 | R23: 55 | S23: 0.02996745 | T23: 2023-04-05 | U23: -0.065032492 | V23: Stock | W23: Industrials | X23: 2680.8988 | Y23: 45050 | Z23: Jonathan Weber
A24: BRC | B24: =HYPERLINK("https://www.suredividend.com/sure-analysis-BRC/","Brady Corp.") -> 0 | C24: Buy | D24: 49 | E24: 48.1 | F24: 67 | G24: 0.71791045 | H24: 0.019126819 | I24: 0.068528094 | J24: 0.05 | K24: 0.13451736 | L24: A | M24: B | N24: 13.626062 | O24: 3.53 | P24: 0.92 | Q24: 0.26062323 | R24: 37 | S24: 0.020851259 | T24: 2023-04-06 | U24: 0.059336032 | V24: Stock | W24: Industrials | X24: 2208.3558 | Y24: 45074 | Z24: Nathan Parsh
A25: DCI | B25: =HYPERLINK("https://www.suredividend.com/sure-analysis-DCI/","Donaldson Co. Inc.") -> 0 | C25: Buy | D25: 60 | E25: 60.67 | F25: 73 | G25: 0.83109589 | H25: 0.016482611 | I25: 0.037695117 | J25: 0.08 | K25: 0.13365231 | L25: A | M25: B | N25: 19.891803 | O25: 3.05 | P25: 1 | Q25: 0.32786885 | R25: 27 | S25: 0.080098759 | T25: 2023-06-06 | U25: 0.28191584 | V25: Stock | W25: Industrials | X25: 7355.7635 | Y25: 45083 | Z25: Josh Arnold
A26: AEL | B26: =HYPERLINK("https://www.suredividend.com/sure-analysis-AEL/","American Equity Investment Life Holding Co") -> 0 | C26: Buy | D26: 40 | E26: 40.67 | F26: 55 | G26: 0.73945455 | H26: 0.0093434964 | I26: 0.062227898 | J26: 0.06 | K26: 0.13283679 | L26: A | M26: C | N26: 8.134 | O26: 5 | P26: 0.38 | Q26: 0.076 | R26: 18 | S26: 0.060613903 | T26: 2022-11-25 | U26: 0.083089214 | V26: Stock | W26: Financials | X26: 3169.8709 | Y26: 45075 | Z26: Tiago Dias
A27: TGT | B27: =HYPERLINK("https://www.suredividend.com/sure-analysis-TGT/","Target Corp") -> 0 | C27: Hold | D27: 152 | E27: 131.83 | F27: 134 | G27: 0.98380597 | H27: 0.033376318 | I27: 0.0032706542 | J27: 0.1 | K27: 0.13120656 | L27: A | M27: A | N27: 15.788024 | O27: 8.35 | P27: 4.4 | Q27: 0.52694611 | R27: 55 | S27: 0.086109954 | T27: 2023-05-16 | U27: -0.095040951 | V27: Stock | W27: Consumer Staples | X27: 60847.404 | Y27: 45069 | Z27: Josh Arnold
A28: LOW | B28: =HYPERLINK("https://www.suredividend.com/sure-analysis-LOW/","Lowe`s Cos., Inc.") -> 0 | C28: Buy | D28: 201 | E28: 215.22 | F28: 248 | G28: 0.86782258 | H28: 0.020444197 | I28: 0.028759386 | J28: 0.08 | K28: 0.12802129 | L28: A | M28: B | N28: 16.061194 | O28: 13.4 | P28: 4.4 | Q28: 0.32835821 | R28: 61 | S28: 0.089679558 | T28: 2023-04-25 | U28: 0.2025076 | V28: Stock | W28: Consumer Discretionary | X28: 126114.78 | Y28: 45072 | Z28: Quinn Mohammed
A29: RJF | B29: =HYPERLINK("https://www.suredividend.com/sure-analysis-RJF/","Raymond James Financial, Inc.") -> 0 | C29: Buy | D29: 91 | E29: 97.19 | F29: 112 | G29: 0.86776786 | H29: 0.017285729 | I29: 0.028772361 | J29: 0.08 | K29: 0.12722588 | L29: A | M29: C | N29: 10.859218 | O29: 8.95 | P29: 1.68 | Q29: 0.1877095 | R29: 11 | S29: 0.13034361 | T29: 2023-03-31 | U29: 0.067333489 | V29: Stock | W29: Financials | X29: 20595.6 | Y29: 45046 | Z29: Patrick Neuwirth
A30: BCPC | B30: =HYPERLINK("https://www.suredividend.com/sure-analysis-BCPC/","Balchem Corp.") -> 0 | C30: Buy | D30: 128 | E30: 128.98 | F30: 140 | G30: 0.92128571 | H30: 0.0055047294 | I30: 0.016532183 | J30: 0.1 | K30: 0.12314857 | L30: A | M30: D | N30: 32.245 | O30: 4 | P30: 0.71 | Q30: 0.1775 | R30: 13 | S30: 0.11977388 | T30: 2022-12-23 | U30: 0.024766651 | V30: Stock | W30: Consumer Staples | X30: 4156.733 | Y30: 45057 | Z30: Yiannis Zourmpanos
A31: PII | B31: =HYPERLINK("https://www.suredividend.com/sure-analysis-PII/","Polaris Inc") -> 0 | C31: Buy | D31: 107 | E31: 115.36 | F31: 156 | G31: 0.73948718 | H31: 0.022538141 | I31: 0.062218523 | J31: 0.04 | K31: 0.12298247 | L31: A | M31: B | N31: 11.092308 | O31: 10.4 | P31: 2.6 | Q31: 0.25 | R31: 28 | S31: 0.074848109 | T31: 2023-05-31 | U31: 0.097264258 | V31: Stock | W31: Consumer Discretionary | X31: 6564.7417 | Y31: 45043 | Z31: Nathan Parsh
A32: ADP | B32: =HYPERLINK("https://www.suredividend.com/sure-analysis-ADP/","Automatic Data Processing Inc.") -> 0 | C32: Buy | D32: 220 | E32: 213.83 | F32: 236 | G32: 0.90605932 | H32: 0.023383061 | I32: 0.019926024 | J32: 0.08 | K32: 0.1209546 | L32: A | M32: B | N32: 26.23681 | O32: 8.15 | P32: 5 | Q32: 0.61349693 | R32: 48 | S32: 0.080098759 | T32: 2023-06-08 | U32: 0.0034524621 | V32: Stock | W32: Industrials | X32: 88338.04 | Y32: 45047 | Z32: Josh Arnold
A33: FOXA | B33: =HYPERLINK("https://www.suredividend.com/sure-analysis-FOXA/","Fox Corporation") -> 0 | C33: Buy | D33: 31 | E33: 32.67 | F33: 43 | G33: 0.75976744 | H33: 0.015916743 | I33: 0.056486287 | J33: 0.05 | K33: 0.12054347 | L33: A | M33: C | N33: 9.7814371 | O33: 3.34 | P33: 0.52 | Q33: 0.15568862 | R33: 1 | S33: 0.029033661 | T33: 2023-02-28 | U33: 0.010425913 | V33: Stock | W33: Communication Services | X33: 16005.923 | Y33: 45069 | Z33: Felix Martinez
A34: TCEHY | B34: =HYPERLINK("https://www.suredividend.com/sure-analysis-TCEHY/","Tencent Holdings Ltd.") -> 0 | C34: Buy | D34: 45 | E34: 42.44 | F34: 45 | G34: 0.94311111 | H34: 0.0073044298 | I34: 0.011783116 | J34: 0.1 | K34: 0.12022131 | L34: A | M34: D | N34: 16.976 | O34: 2.5 | P34: 0.31 | Q34: 0.124 | R34: 1 | S34: 0.14869835 | T34: 2023-05-18 | U34: -0.13704758 | V34: Stock | W34: Communication Services | X34: 406926.64 | Y34: 45064 | Z34: Nikos Sismanis
A35: ELV | B35: =HYPERLINK("https://www.suredividend.com/sure-analysis-ELV/","Elevance Health Inc") -> 0 | C35: Buy | D35: 467 | E35: 450.4 | F35: 491 | G35: 0.91731161 | H35: 0.013143872 | I35: 0.017411453 | J35: 0.09 | K35: 0.12009239 | L35: A | M35: C | N35: 13.7737 | O35: 32.7 | P35: 5.92 | Q35: 0.18103976 | R35: 13 | S35: 0.090032217 | T35: 2023-06-08 | U35: -0.041436993 | V35: Stock | W35: Health Care | X35: 106769.93 | Y35: 45036 | Z35: Nathan Parsh
A36: NWN | B36: =HYPERLINK("https://www.suredividend.com/sure-analysis-NWN/","Northwest Natural Holding Co") -> 0 | C36: Buy | D36: 45.7 | E36: 42.04 | F36: 51.1 | G36: 0.82270059 | H36: 0.046146527 | I36: 0.039804371 | J36: 0.045 | K36: 0.11929157 | L36: A | M36: A | N36: 15.628253 | O36: 2.69 | P36: 1.94 | Q36: 0.72118959 | R36: 67 | S36: 0.01597615 | T36: 2023-04-27 | U36: -0.1652022 | V36: Stock | W36: Utilities | X36: 1511.9944 | Y36: 45067 | Z36: Samuel Smith
A37: NFG | B37: =HYPERLINK("https://www.suredividend.com/sure-analysis-NFG/","National Fuel Gas Co.") -> 0 | C37: Hold | D37: 52 | E37: 49.61 | F37: 69 | G37: 0.71898551 | H37: 0.039911308 | I37: 0.068208361 | J37: 0.02 | K37: 0.11790549 | L37: A | M37: A | N37: 9.4495238 | O37: 5.25 | P37: 1.98 | Q37: 0.37714286 | R37: 53 | S37: 0.017554577 | T37: 2023-03-30 | U37: -0.22495153 | V37: Stock | W37: Utilities | X37: 4554.3962 | Y37: 45058 | Z37: Aristofanis Papadatos
A38: PRI | B38: =HYPERLINK("https://www.suredividend.com/sure-analysis-PRI/","Primerica Inc") -> 0 | C38: Buy | D38: 181 | E38: 188.93 | F38: 193 | G38: 0.97891192 | H38: 0.013761711 | I38: 0.0042718209 | J38: 0.1 | K38: 0.11684516 | L38: A | M38: C | N38: 13.740364 | O38: 13.75 | P38: 2.6 | Q38: 0.18909091 | R38: 13 | S38: 0.10014045 | T38: 2023-05-19 | U38: 0.58529576 | V38: Stock | W38: Financials | X38: 6844.1782 | Y38: 45058 | Z38: Patrick Neuwirth
A39: FMCB | B39: =HYPERLINK("https://www.suredividend.com/sure-analysis-FMCB/","Farmers & Merchants Bancorp") -> 0 | C39: Buy | D39: 1000 | E39: 985 | F39: 1260 | G39: 0.78174603 | H39: 0.016852792 | I39: 0.050477762 | J39: 0.05 | K39: 0.11591311 | L39: A | M39: B | N39: 9.3809524 | O39: 105 | P39: 16.6 | Q39: 0.15809524 | R39: 58 | S39: 0.050136019 | T39: 2023-06-08 | U39: 0.096120413 | V39: Stock | W39: Financials | X39: 743.20515 | Y39: 45041 | Z39: Aristofanis Papadatos
A40: AMP | B40: =HYPERLINK("https://www.suredividend.com/sure-analysis-AMP/","Ameriprise Financial Inc") -> 0 | C40: Buy | D40: 305 | E40: 317.02 | F40: 350 | G40: 0.90577143 | H40: 0.017033626 | I40: 0.019990852 | J40: 0.08 | K40: 0.11586784 | L40: A | M40: B | N40: 10.421433 | O40: 30.42 | P40: 5.4 | Q40: 0.17751479 | R40: 19 | S40: 0.079880964 | T40: 2023-05-05 | U40: 0.29355792 | V40: Stock | W40: Financials | X40: 33026.759 | Y40: 45045 | Z40: Nathan Parsh
...

Sheet Portfolio Tracker
A1: Ticker | B1: Shares | C1: Sector | D1: Percent of Portfolio | E1: Price | F1: Market Value | G1: Dividend Yield | H1: Annual Dividends | I1: Earnings-per-share | J1: P/E Ratio | K1: Payout Ratio | L1: Payment Month Group | M1: Dividend Risk Score | N1: Weighted Averaged Expected Total Return | O1: Valuation Return | P1: Growth Return | Q1: Expected Total Return | S1: Portfolio Summary
C2: =IFERROR(VLOOKUP(A2,'Detailed Dashboard'!$A:$AD,23,FALSE),"-") -> 0 | D2: =IFERROR(F2/SUM($F$2:$F$301),"-") -> 0 | E2: =IFERROR(VLOOKUP(A2,'Detailed Dashboard'!$A:$AD,5,FALSE),"-") -> 0 | F2: =IFERROR(E2*B2,0) -> 0 | G2: =IFERROR(VLOOKUP(A2,'Detailed Dashboard'!$A:$AD,8,FALSE),"-") -> 0 | H2: =IFERROR(E2*B2*G2,"-") -> 0 | I2: =IFERROR(VLOOKUP(A2,'Detailed Dashboard'!$A:$AD,15,FALSE),"-") -> 0 | J2: =IFERROR(VLOOKUP(A2,'Detailed Dashboard'!$A:$AD,14,FALSE),"-") -> 0 | K2: =IFERROR(VLOOKUP(A2,'Detailed Dashboard'!$A:$AD,17,FALSE),"-") -> 0 | L2: =IFERROR(IF(VLOOKUP(A2,'Payment Dates'!$A:$B,2,FALSE)="monthly",4, MOD(MONTH(VLOOKUP(A2,'Payment Dates'!$A:$B,2,FALSE)),3)), "-") -> 0 | M2: =IFERROR(VLOOKUP(A2,'Detailed Dashboard'!$A:$AD,12,FALSE),"-") -> 0 | N2: =IFERROR(P2*D2, "-") -> 0 | O2: =IFERROR(VLOOKUP(A2,'Detailed Dashboard'!$A:$AD,9,FALSE),"-") -> 0 | P2: =IFERROR(VLOOKUP(A2,'Detailed Dashboard'!$A:$AD,10,FALSE),"-") -> 0 | Q2: =IFERROR(VLOOKUP(A2,'Detailed Dashboard'!$A:$AD,11,FALSE),"-") -> 0 | S2: Annual Dividend Income | T2: =SUM($H:$H) -> 0
C3: =IFERROR(VLOOKUP(A3,'Detailed Dashboard'!$A:$AD,23,FALSE),"-") -> 0 | D3: =IFERROR(F3/SUM($F$2:$F$301),"-") -> 0 | E3: =IFERROR(VLOOKUP(A3,'Detailed Dashboard'!$A:$AD,5,FALSE),"-") -> 0 | F3: =IFERROR(E3*B3,0) -> 0 | G3: =IFERROR(VLOOKUP(A3,'Detailed Dashboard'!$A:$AD,8,FALSE),"-") -> 0 | H3: =IFERROR(E3*B3*G3,"-") -> 0 | I3: =IFERROR(VLOOKUP(A3,'Detailed Dashboard'!$A:$AD,15,FALSE),"-") -> 0 | J3: =IFERROR(VLOOKUP(A3,'Detailed Dashboard'!$A:$AD,14,FALSE),"-") -> 0 | K3: =IFERROR(VLOOKUP(A3,'Detailed Dashboard'!$A:$AD,17,FALSE),"-") -> 0 | L3: =IFERROR(IF(VLOOKUP(A3,'Payment Dates'!$A:$B,2,FALSE)="monthly",4, MOD(MONTH(VLOOKUP(A3,'Payment Dates'!$A:$B,2,FALSE)),3)), "-") -> 0 | M3: =IFERROR(VLOOKUP(A3,'Detailed Dashboard'!$A:$AD,12,FALSE),"-") -> 0 | N3: =IFERROR(P3*D3, "-") -> 0 | O3: =IFERROR(VLOOKUP(A3,'Detailed Dashboard'!$A:$AD,9,FALSE),"-") -> 0 | P3: =IFERROR(VLOOKUP(A3,'Detailed Dashboard'!$A:$AD,10,FALSE),"-") -> 0 | Q3: =IFERROR(VLOOKUP(A3,'Detailed Dashboard'!$A:$AD,11,FALSE),"-") -> 0 | S3: Estimated Earnings | T3: =SUMPRODUCT($B:$B, $I:$I) -> 0
C4: =IFERROR(VLOOKUP(A4,'Detailed Dashboard'!$A:$AD,23,FALSE),"-") -> 0 | D4: =IFERROR(F4/SUM($F$2:$F$301),"-") -> 0 | E4: =IFERROR(VLOOKUP(A4,'Detailed Dashboard'!$A:$AD,5,FALSE),"-") -> 0 | F4: =IFERROR(E4*B4,0) -> 0 | G4: =IFERROR(VLOOKUP(A4,'Detailed Dashboard'!$A:$AD,8,FALSE),"-") -> 0 | H4: =IFERROR(E4*B4*G4,"-") -> 0 | I4: =IFERROR(VLOOKUP(A4,'Detailed Dashboard'!$A:$AD,15,FALSE),"-") -> 0 | J4: =IFERROR(VLOOKUP(A4,'Detailed Dashboard'!$A:$AD,14,FALSE),"-") -> 0 | K4: =IFERROR(VLOOKUP(A4,'Detailed Dashboard'!$A:$AD,17,FALSE),"-") -> 0 | L4: =IFERROR(IF(VLOOKUP(A4,'Payment Dates'!$A:$B,2,FALSE)="monthly",4, MOD(MONTH(VLOOKUP(A4,'Payment Dates'!$A:$B,2,FALSE)),3)), "-") -> 0 | M4: =IFERROR(VLOOKUP(A4,'Detailed Dashboard'!$A:$AD,12,FALSE),"-") -> 0 | N4: =IFERROR(P4*D4, "-") -> 0 | O4: =IFERROR(VLOOKUP(A4,'Detailed Dashboard'!$A:$AD,9,FALSE),"-") -> 0 | P4: =IFERROR(VLOOKUP(A4,'Detailed Dashboard'!$A:$AD,10,FALSE),"-") -> 0 | Q4: =IFERROR(VLOOKUP(A4,'Detailed Dashboard'!$A:$AD,11,FALSE),"-") -> 0 | S4: Market Value | T4: =SUM($F:$F) -> 0
C5: =IFERROR(VLOOKUP(A5,'Detailed Dashboard'!$A:$AD,23,FALSE),"-") -> 0 | D5: =IFERROR(F5/SUM($F$2:$F$301),"-") -> 0 | E5: =IFERROR(VLOOKUP(A5,'Detailed Dashboard'!$A:$AD,5,FALSE),"-") -> 0 | F5: =IFERROR(E5*B5,0) -> 0 | G5: =IFERROR(VLOOKUP(A5,'Detailed Dashboard'!$A:$AD,8,FALSE),"-") -> 0 | H5: =IFERROR(E5*B5*G5,"-") -> 0 | I5: =IFERROR(VLOOKUP(A5,'Detailed Dashboard'!$A:$AD,15,FALSE),"-") -> 0 | J5: =IFERROR(VLOOKUP(A5,'Detailed Dashboard'!$A:$AD,14,FALSE),"-") -> 0 | K5: =IFERROR(VLOOKUP(A5,'Detailed Dashboard'!$A:$AD,17,FALSE),"-") -> 0 | L5: =IFERROR(IF(VLOOKUP(A5,'Payment Dates'!$A:$B,2,FALSE)="monthly",4, MOD(MONTH(VLOOKUP(A5,'Payment Dates'!$A:$B,2,FALSE)),3)), "-") -> 0 | M5: =IFERROR(VLOOKUP(A5,'Detailed Dashboard'!$A:$AD,12,FALSE),"-") -> 0 | N5: =IFERROR(P5*D5, "-") -> 0 | O5: =IFERROR(VLOOKUP(A5,'Detailed Dashboard'!$A:$AD,9,FALSE),"-") -> 0 | P5: =IFERROR(VLOOKUP(A5,'Detailed Dashboard'!$A:$AD,10,FALSE),"-") -> 0 | Q5: =IFERROR(VLOOKUP(A5,'Detailed Dashboard'!$A:$AD,11,FALSE),"-") -> 0 | S5: Dividend Yield | T5: =SUM($H:$H)/SUM($F:$F) -> 0
C6: =IFERROR(VLOOKUP(A6,'Detailed Dashboard'!$A:$AD,23,FALSE),"-") -> 0 | D6: =IFERROR(F6/SUM($F$2:$F$301),"-") -> 0 | E6: =IFERROR(VLOOKUP(A6,'Detailed Dashboard'!$A:$AD,5,FALSE),"-") -> 0 | F6: =IFERROR(E6*B6,0) -> 0 | G6: =IFERROR(VLOOKUP(A6,'Detailed Dashboard'!$A:$AD,8,FALSE),"-") -> 0 | H6: =IFERROR(E6*B6*G6,"-") -> 0 | I6: =IFERROR(VLOOKUP(A6,'Detailed Dashboard'!$A:$AD,15,FALSE),"-") -> 0 | J6: =IFERROR(VLOOKUP(A6,'Detailed Dashboard'!$A:$AD,14,FALSE),"-") -> 0 | K6: =IFERROR(VLOOKUP(A6,'Detailed Dashboard'!$A:$AD,17,FALSE),"-") -> 0 | L6: =IFERROR(IF(VLOOKUP(A6,'Payment Dates'!$A:$B,2,FALSE)="monthly",4, MOD(MONTH(VLOOKUP(A6,'Payment Dates'!$A:$B,2,FALSE)),3)), "-") -> 0 | M6: =IFERROR(VLOOKUP(A6,'Detailed Dashboard'!$A:$AD,12,FALSE),"-") -> 0 | N6: =IFERROR(P6*D6, "-") -> 0 | O6: =IFERROR(VLOOKUP(A6,'Detailed Dashboard'!$A:$AD,9,FALSE),"-") -> 0 | P6: =IFERROR(VLOOKUP(A6,'Detailed Dashboard'!$A:$AD,10,FALSE),"-") -> 0 | Q6: =IFERROR(VLOOKUP(A6,'Detailed Dashboard'!$A:$AD,11,FALSE),"-") -> 0 | S6: Payout Ratio | T6: =SUM($H:$H)/SUMPRODUCT($B:$B, $I:$I) -> 0
C7: =IFERROR(VLOOKUP(A7,'Detailed Dashboard'!$A:$AD,23,FALSE),"-") -> 0 | D7: =IFERROR(F7/SUM($F$2:$F$301),"-") -> 0 | E7: =IFERROR(VLOOKUP(A7,'Detailed Dashboard'!$A:$AD,5,FALSE),"-") -> 0 | F7: =IFERROR(E7*B7,0) -> 0 | G7: =IFERROR(VLOOKUP(A7,'Detailed Dashboard'!$A:$AD,8,FALSE),"-") -> 0 | H7: =IFERROR(E7*B7*G7,"-") -> 0 | I7: =IFERROR(VLOOKUP(A7,'Detailed Dashboard'!$A:$AD,15,FALSE),"-") -> 0 | J7: =IFERROR(VLOOKUP(A7,'Detailed Dashboard'!$A:$AD,14,FALSE),"-") -> 0 | K7: =IFERROR(VLOOKUP(A7,'Detailed Dashboard'!$A:$AD,17,FALSE),"-") -> 0 | L7: =IFERROR(IF(VLOOKUP(A7,'Payment Dates'!$A:$B,2,FALSE)="monthly",4, MOD(MONTH(VLOOKUP(A7,'Payment Dates'!$A:$B,2,FALSE)),3)), "-") -> 0 | M7: =IFERROR(VLOOKUP(A7,'Detailed Dashboard'!$A:$AD,12,FALSE),"-") -> 0 | N7: =IFERROR(P7*D7, "-") -> 0 | O7: =IFERROR(VLOOKUP(A7,'Detailed Dashboard'!$A:$AD,9,FALSE),"-") -> 0 | P7: =IFERROR(VLOOKUP(A7,'Detailed Dashboard'!$A:$AD,10,FALSE),"-") -> 0 | Q7: =IFERROR(VLOOKUP(A7,'Detailed Dashboard'!$A:$AD,11,FALSE),"-") -> 0 | S7: P/E Ratio | T7: =SUM($F:$F)/SUMPRODUCT($B:$B, $I:$I) -> 0
C8: =IFERROR(VLOOKUP(A8,'Detailed Dashboard'!$A:$AD,23,FALSE),"-") -> 0 | D8: =IFERROR(F8/SUM($F$2:$F$301),"-") -> 0 | E8: =IFERROR(VLOOKUP(A8,'Detailed Dashboard'!$A:$AD,5,FALSE),"-") -> 0 | F8: =IFERROR(E8*B8,0) -> 0 | G8: =IFERROR(VLOOKUP(A8,'Detailed Dashboard'!$A:$AD,8,FALSE),"-") -> 0 | H8: =IFERROR(E8*B8*G8,"-") -> 0 | I8: =IFERROR(VLOOKUP(A8,'Detailed Dashboard'!$A:$AD,15,FALSE),"-") -> 0 | J8: =IFERROR(VLOOKUP(A8,'Detailed Dashboard'!$A:$AD,14,FALSE),"-") -> 0 | K8: =IFERROR(VLOOKUP(A8,'Detailed Dashboard'!$A:$AD,17,FALSE),"-") -> 0 | L8: =IFERROR(IF(VLOOKUP(A8,'Payment Dates'!$A:$B,2,FALSE)="monthly",4, MOD(MONTH(VLOOKUP(A8,'Payment Dates'!$A:$B,2,FALSE)),3)), "-") -> 0 | M8: =IFERROR(VLOOKUP(A8,'Detailed Dashboard'!$A:$AD,12,FALSE),"-") -> 0 | N8: =IFERROR(P8*D8, "-") -> 0 | O8: =IFERROR(VLOOKUP(A8,'Detailed Dashboard'!$A:$AD,9,FALSE),"-") -> 0 | P8: =IFERROR(VLOOKUP(A8,'Detailed Dashboard'!$A:$AD,10,FALSE),"-") -> 0 | Q8: =IFERROR(VLOOKUP(A8,'Detailed Dashboard'!$A:$AD,11,FALSE),"-") -> 0 | S8: Expected Total Return | T8: =SUMPRODUCT($D:$D, $Q:$Q) -> 0
C9: =IFERROR(VLOOKUP(A9,'Detailed Dashboard'!$A:$AD,23,FALSE),"-") -> 0 | D9: =IFERROR(F9/SUM($F$2:$F$301),"-") -> 0 | E9: =IFERROR(VLOOKUP(A9,'Detailed Dashboard'!$A:$AD,5,FALSE),"-") -> 0 | F9: =IFERROR(E9*B9,0) -> 0 | G9: =IFERROR(VLOOKUP(A9,'Detailed Dashboard'!$A:$AD,8,FALSE),"-") -> 0 | H9: =IFERROR(E9*B9*G9,"-") -> 0 | I9: =IFERROR(VLOOKUP(A9,'Detailed Dashboard'!$A:$AD,15,FALSE),"-") -> 0 | J9: =IFERROR(VLOOKUP(A9,'Detailed Dashboard'!$A:$AD,14,FALSE),"-") -> 0 | K9: =IFERROR(VLOOKUP(A9,'Detailed Dashboard'!$A:$AD,17,FALSE),"-") -> 0 | L9: =IFERROR(IF(VLOOKUP(A9,'Payment Dates'!$A:$B,2,FALSE)="monthly",4, MOD(MONTH(VLOOKUP(A9,'Payment Dates'!$A:$B,2,FALSE)),3)), "-") -> 0 | M9: =IFERROR(VLOOKUP(A9,'Detailed Dashboard'!$A:$AD,12,FALSE),"-") -> 0 | N9: =IFERROR(P9*D9, "-") -> 0 | O9: =IFERROR(VLOOKUP(A9,'Detailed Dashboard'!$A:$AD,9,FALSE),"-") -> 0 | P9: =IFERROR(VLOOKUP(A9,'Detailed Dashboard'!$A:$AD,10,FALSE),"-") -> 0 | Q9: =IFERROR(VLOOKUP(A9,'Detailed Dashboard'!$A:$AD,11,FALSE),"-") -> 0
C10: =IFERROR(VLOOKUP(A10,'Detailed Dashboard'!$A:$AD,23,FALSE),"-") -> 0 | D10: =IFERROR(F10/SUM($F$2:$F$301),"-") -> 0 | E10: =IFERROR(VLOOKUP(A10,'Detailed Dashboard'!$A:$AD,5,FALSE),"-") -> 0 | F10: =IFERROR(E10*B10,0) -> 0 | G10: =IFERROR(VLOOKUP(A10,'Detailed Dashboard'!$A:$AD,8,FALSE),"-") -> 0 | H10: =IFERROR(E10*B10*G10,"-") -> 0 | I10: =IFERROR(VLOOKUP(A10,'Detailed Dashboard'!$A:$AD,15,FALSE),"-") -> 0 | J10: =IFERROR(VLOOKUP(A10,'Detailed Dashboard'!$A:$AD,14,FALSE),"-") -> 0 | K10: =IFERROR(VLOOKUP(A10,'Detailed Dashboard'!$A:$AD,17,FALSE),"-") -> 0 | L10: =IFERROR(IF(VLOOKUP(A10,'Payment Dates'!$A:$B,2,FALSE)="monthly",4, MOD(MONTH(VLOOKUP(A10,'Payment Dates'!$A:$B,2,FALSE)),3)), "-") -> 0 | M10: =IFERROR(VLOOKUP(A10,'Detailed Dashboard'!$A:$AD,12,FALSE),"-") -> 0 | N10: =IFERROR(P10*D10, "-") -> 0 | O10: =IFERROR(VLOOKUP(A10,'Detailed Dashboard'!$A:$AD,9,FALSE),"-") -> 0 | P10: =IFERROR(VLOOKUP(A10,'Detailed Dashboard'!$A:$AD,10,FALSE),"-") -> 0 | Q10: =IFERROR(VLOOKUP(A10,'Detailed Dashboard'!$A:$AD,11,FALSE),"-") -> 0 | S10: Dividend Income by Month
C11: =IFERROR(VLOOKUP(A11,'Detailed Dashboard'!$A:$AD,23,FALSE),"-") -> 0 | D11: =IFERROR(F11/SUM($F$2:$F$301),"-") -> 0 | E11: =IFERROR(VLOOKUP(A11,'Detailed Dashboard'!$A:$AD,5,FALSE),"-") -> 0 | F11: =IFERROR(E11*B11,0) -> 0 | G11: =IFERROR(VLOOKUP(A11,'Detailed Dashboard'!$A:$AD,8,FALSE),"-") -> 0 | H11: =IFERROR(E11*B11*G11,"-") -> 0 | I11: =IFERROR(VLOOKUP(A11,'Detailed Dashboard'!$A:$AD,15,FALSE),"-") -> 0 | J11: =IFERROR(VLOOKUP(A11,'Detailed Dashboard'!$A:$AD,14,FALSE),"-") -> 0 | K11: =IFERROR(VLOOKUP(A11,'Detailed Dashboard'!$A:$AD,17,FALSE),"-") -> 0 | L11: =IFERROR(IF(VLOOKUP(A11,'Payment Dates'!$A:$B,2,FALSE)="monthly",4, MOD(MONTH(VLOOKUP(A11,'Payment Dates'!$A:$B,2,FALSE)),3)), "-") -> 0 | M11: =IFERROR(VLOOKUP(A11,'Detailed Dashboard'!$A:$AD,12,FALSE),"-") -> 0 | N11: =IFERROR(P11*D11, "-") -> 0 | O11: =IFERROR(VLOOKUP(A11,'Detailed Dashboard'!$A:$AD,9,FALSE),"-") -> 0 | P11: =IFERROR(VLOOKUP(A11,'Detailed Dashboard'!$A:$AD,10,FALSE),"-") -> 0 | Q11: =IFERROR(VLOOKUP(A11,'Detailed Dashboard'!$A:$AD,11,FALSE),"-") -> 0 | S11: January | T11: =SUMIF($L$2:$L$300,"=1",$H$2:$H$300)/4 + SUMIF($L$2:$L$300,"=4",$H$2:$H$300)/12 -> 0
C12: =IFERROR(VLOOKUP(A12,'Detailed Dashboard'!$A:$AD,23,FALSE),"-") -> 0 | D12: =IFERROR(F12/SUM($F$2:$F$301),"-") -> 0 | E12: =IFERROR(VLOOKUP(A12,'Detailed Dashboard'!$A:$AD,5,FALSE),"-") -> 0 | F12: =IFERROR(E12*B12,0) -> 0 | G12: =IFERROR(VLOOKUP(A12,'Detailed Dashboard'!$A:$AD,8,FALSE),"-") -> 0 | H12: =IFERROR(E12*B12*G12,"-") -> 0 | I12: =IFERROR(VLOOKUP(A12,'Detailed Dashboard'!$A:$AD,15,FALSE),"-") -> 0 | J12: =IFERROR(VLOOKUP(A12,'Detailed Dashboard'!$A:$AD,14,FALSE),"-") -> 0 | K12: =IFERROR(VLOOKUP(A12,'Detailed Dashboard'!$A:$AD,17,FALSE),"-") -> 0 | L12: =IFERROR(IF(VLOOKUP(A12,'Payment Dates'!$A:$B,2,FALSE)="monthly",4, MOD(MONTH(VLOOKUP(A12,'Payment Dates'!$A:$B,2,FALSE)),3)), "-") -> 0 | M12: =IFERROR(VLOOKUP(A12,'Detailed Dashboard'!$A:$AD,12,FALSE),"-") -> 0 | N12: =IFERROR(P12*D12, "-") -> 0 | O12: =IFERROR(VLOOKUP(A12,'Detailed Dashboard'!$A:$AD,9,FALSE),"-") -> 0 | P12: =IFERROR(VLOOKUP(A12,'Detailed Dashboard'!$A:$AD,10,FALSE),"-") -> 0 | Q12: =IFERROR(VLOOKUP(A12,'Detailed Dashboard'!$A:$AD,11,FALSE),"-") -> 0 | S12: February | T12: =SUMIF($L$2:$L$300,"=2",$H$2:$H$300)/4 + SUMIF($L$2:$L$300,"=4",$H$2:$H$300)/12 -> 0
C13: =IFERROR(VLOOKUP(A13,'Detailed Dashboard'!$A:$AD,23,FALSE),"-") -> 0 | D13: =IFERROR(F13/SUM($F$2:$F$301),"-") -> 0 | E13: =IFERROR(VLOOKUP(A13,'Detailed Dashboard'!$A:$AD,5,FALSE),"-") -> 0 | F13: =IFERROR(E13*B13,0) -> 0 | G13: =IFERROR(VLOOKUP(A13,'Detailed Dashboard'!$A:$AD,8,FALSE),"-") -> 0 | H13: =IFERROR(E13*B13*G13,"-") -> 0 | I13: =IFERROR(VLOOKUP(A13,'Detailed Dashboard'!$A:$AD,15,FALSE),"-") -> 0 | J13: =IFERROR(VLOOKUP(A13,'Detailed Dashboard'!$A:$AD,14,FALSE),"-") -> 0 | K13: =IFERROR(VLOOKUP(A13,'Detailed Dashboard'!$A:$AD,17,FALSE),"-") -> 0 | L13: =IFERROR(IF(VLOOKUP(A13,'Payment Dates'!$A:$B,2,FALSE)="monthly",4, MOD(MONTH(VLOOKUP(A13,'Payment Dates'!$A:$B,2,FALSE)),3)), "-") -> 0 | M13: =IFERROR(VLOOKUP(A13,'Detailed Dashboard'!$A:$AD,12,FALSE),"-") -> 0 | N13: =IFERROR(P13*D13, "-") -> 0 | O13: =IFERROR(VLOOKUP(A13,'Detailed Dashboard'!$A:$AD,9,FALSE),"-") -> 0 | P13: =IFERROR(VLOOKUP(A13,'Detailed Dashboard'!$A:$AD,10,FALSE),"-") -> 0 | Q13: =IFERROR(VLOOKUP(A13,'Detailed Dashboard'!$A:$AD,11,FALSE),"-") -> 0 | S13: March | T13: =SUMIF($L$2:$L$300,"=0",$H$2:$H$300)/4 + SUMIF($L$2:$L$300,"=4",$H$2:$H$300)/12 -> 0
C14: =IFERROR(VLOOKUP(A14,'Detailed Dashboard'!$A:$AD,23,FALSE),"-") -> 0 | D14: =IFERROR(F14/SUM($F$2:$F$301),"-") -> 0 | E14: =IFERROR(VLOOKUP(A14,'Detailed Dashboard'!$A:$AD,5,FALSE),"-") -> 0 | F14: =IFERROR(E14*B14,0) -> 0 | G14: =IFERROR(VLOOKUP(A14,'Detailed Dashboard'!$A:$AD,8,FALSE),"-") -> 0 | H14: =IFERROR(E14*B14*G14,"-") -> 0 | I14: =IFERROR(VLOOKUP(A14,'Detailed Dashboard'!$A:$AD,15,FALSE),"-") -> 0 | J14: =IFERROR(VLOOKUP(A14,'Detailed Dashboard'!$A:$AD,14,FALSE),"-") -> 0 | K14: =IFERROR(VLOOKUP(A14,'Detailed Dashboard'!$A:$AD,17,FALSE),"-") -> 0 | L14: =IFERROR(IF(VLOOKUP(A14,'Payment Dates'!$A:$B,2,FALSE)="monthly",4, MOD(MONTH(VLOOKUP(A14,'Payment Dates'!$A:$B,2,FALSE)),3)), "-") -> 0 | M14: =IFERROR(VLOOKUP(A14,'Detailed Dashboard'!$A:$AD,12,FALSE),"-") -> 0 | N14: =IFERROR(P14*D14, "-") -> 0 | O14: =IFERROR(VLOOKUP(A14,'Detailed Dashboard'!$A:$AD,9,FALSE),"-") -> 0 | P14: =IFERROR(VLOOKUP(A14,'Detailed Dashboard'!$A:$AD,10,FALSE),"-") -> 0 | Q14: =IFERROR(VLOOKUP(A14,'Detailed Dashboard'!$A:$AD,11,FALSE),"-") -> 0 | S14: April | T14: =SUMIF($L$2:$L$300,"=1",$H$2:$H$300)/4 + SUMIF($L$2:$L$300,"=4",$H$2:$H$300)/12 -> 0
C15: =IFERROR(VLOOKUP(A15,'Detailed Dashboard'!$A:$AD,23,FALSE),"-") -> 0 | D15: =IFERROR(F15/SUM($F$2:$F$301),"-") -> 0 | E15: =IFERROR(VLOOKUP(A15,'Detailed Dashboard'!$A:$AD,5,FALSE),"-") -> 0 | F15: =IFERROR(E15*B15,0) -> 0 | G15: =IFERROR(VLOOKUP(A15,'Detailed Dashboard'!$A:$AD,8,FALSE),"-") -> 0 | H15: =IFERROR(E15*B15*G15,"-") -> 0 | I15: =IFERROR(VLOOKUP(A15,'Detailed Dashboard'!$A:$AD,15,FALSE),"-") -> 0 | J15: =IFERROR(VLOOKUP(A15,'Detailed Dashboard'!$A:$AD,14,FALSE),"-") -> 0 | K15: =IFERROR(VLOOKUP(A15,'Detailed Dashboard'!$A:$AD,17,FALSE),"-") -> 0 | L15: =IFERROR(IF(VLOOKUP(A15,'Payment Dates'!$A:$B,2,FALSE)="monthly",4, MOD(MONTH(VLOOKUP(A15,'Payment Dates'!$A:$B,2,FALSE)),3)), "-") -> 0 | M15: =IFERROR(VLOOKUP(A15,'Detailed Dashboard'!$A:$AD,12,FALSE),"-") -> 0 | N15: =IFERROR(P15*D15, "-") -> 0 | O15: =IFERROR(VLOOKUP(A15,'Detailed Dashboard'!$A:$AD,9,FALSE),"-") -> 0 | P15: =IFERROR(VLOOKUP(A15,'Detailed Dashboard'!$A:$AD,10,FALSE),"-") -> 0 | Q15: =IFERROR(VLOOKUP(A15,'Detailed Dashboard'!$A:$AD,11,FALSE),"-") -> 0 | S15: May | T15: =SUMIF($L$2:$L$300,"=2",$H$2:$H$300)/4 + SUMIF($L$2:$L$300,"=4",$H$2:$H$300)/12 -> 0
C16: =IFERROR(VLOOKUP(A16,'Detailed Dashboard'!$A:$AD,23,FALSE),"-") -> 0 | D16: =IFERROR(F16/SUM($F$2:$F$301),"-") -> 0 | E16: =IFERROR(VLOOKUP(A16,'Detailed Dashboard'!$A:$AD,5,FALSE),"-") -> 0 | F16: =IFERROR(E16*B16,0) -> 0 | G16: =IFERROR(VLOOKUP(A16,'Detailed Dashboard'!$A:$AD,8,FALSE),"-") -> 0 | H16: =IFERROR(E16*B16*G16,"-") -> 0 | I16: =IFERROR(VLOOKUP(A16,'Detailed Dashboard'!$A:$AD,15,FALSE),"-") -> 0 | J16: =IFERROR(VLOOKUP(A16,'Detailed Dashboard'!$A:$AD,14,FALSE),"-") -> 0 | K16: =IFERROR(VLOOKUP(A16,'Detailed Dashboard'!$A:$AD,17,FALSE),"-") -> 0 | L16: =IFERROR(IF(VLOOKUP(A16,'Payment Dates'!$A:$B,2,FALSE)="monthly",4, MOD(MONTH(VLOOKUP(A16,'Payment Dates'!$A:$B,2,FALSE)),3)), "-") -> 0 | M16: =IFERROR(VLOOKUP(A16,'Detailed Dashboard'!$A:$AD,12,FALSE),"-") -> 0 | N16: =IFERROR(P16*D16, "-") -> 0 | O16: =IFERROR(VLOOKUP(A16,'Detailed Dashboard'!$A:$AD,9,FALSE),"-") -> 0 | P16: =IFERROR(VLOOKUP(A16,'Detailed Dashboard'!$A:$AD,10,FALSE),"-") -> 0 | Q16: =IFERROR(VLOOKUP(A16,'Detailed Dashboard'!$A:$AD,11,FALSE),"-") -> 0 | S16: June | T16: =SUMIF($L$2:$L$300,"=0",$H$2:$H$300)/4 + SUMIF($L$2:$L$300,"=4",$H$2:$H$300)/12 -> 0
C17: =IFERROR(VLOOKUP(A17,'Detailed Dashboard'!$A:$AD,23,FALSE),"-") -> 0 | D17: =IFERROR(F17/SUM($F$2:$F$301),"-") -> 0 | E17: =IFERROR(VLOOKUP(A17,'Detailed Dashboard'!$A:$AD,5,FALSE),"-") -> 0 | F17: =IFERROR(E17*B17,0) -> 0 | G17: =IFERROR(VLOOKUP(A17,'Detailed Dashboard'!$A:$AD,8,FALSE),"-") -> 0 | H17: =IFERROR(E17*B17*G17,"-") -> 0 | I17: =IFERROR(VLOOKUP(A17,'Detailed Dashboard'!$A:$AD,15,FALSE),"-") -> 0 | J17: =IFERROR(VLOOKUP(A17,'Detailed Dashboard'!$A:$AD,14,FALSE),"-") -> 0 | K17: =IFERROR(VLOOKUP(A17,'Detailed Dashboard'!$A:$AD,17,FALSE),"-") -> 0 | L17: =IFERROR(IF(VLOOKUP(A17,'Payment Dates'!$A:$B,2,FALSE)="monthly",4, MOD(MONTH(VLOOKUP(A17,'Payment Dates'!$A:$B,2,FALSE)),3)), "-") -> 0 | M17: =IFERROR(VLOOKUP(A17,'Detailed Dashboard'!$A:$AD,12,FALSE),"-") -> 0 | N17: =IFERROR(P17*D17, "-") -> 0 | O17: =IFERROR(VLOOKUP(A17,'Detailed Dashboard'!$A:$AD,9,FALSE),"-") -> 0 | P17: =IFERROR(VLOOKUP(A17,'Detailed Dashboard'!$A:$AD,10,FALSE),"-") -> 0 | Q17: =IFERROR(VLOOKUP(A17,'Detailed Dashboard'!$A:$AD,11,FALSE),"-") -> 0 | S17: July | T17: =SUMIF($L$2:$L$300,"=1",$H$2:$H$300)/4 + SUMIF($L$2:$L$300,"=4",$H$2:$H$300)/12 -> 0
C18: =IFERROR(VLOOKUP(A18,'Detailed Dashboard'!$A:$AD,23,FALSE),"-") -> 0 | D18: =IFERROR(F18/SUM($F$2:$F$301),"-") -> 0 | E18: =IFERROR(VLOOKUP(A18,'Detailed Dashboard'!$A:$AD,5,FALSE),"-") -> 0 | F18: =IFERROR(E18*B18,0) -> 0 | G18: =IFERROR(VLOOKUP(A18,'Detailed Dashboard'!$A:$AD,8,FALSE),"-") -> 0 | H18: =IFERROR(E18*B18*G18,"-") -> 0 | I18: =IFERROR(VLOOKUP(A18,'Detailed Dashboard'!$A:$AD,15,FALSE),"-") -> 0 | J18: =IFERROR(VLOOKUP(A18,'Detailed Dashboard'!$A:$AD,14,FALSE),"-") -> 0 | K18: =IFERROR(VLOOKUP(A18,'Detailed Dashboard'!$A:$AD,17,FALSE),"-") -> 0 | L18: =IFERROR(IF(VLOOKUP(A18,'Payment Dates'!$A:$B,2,FALSE)="monthly",4, MOD(MONTH(VLOOKUP(A18,'Payment Dates'!$A:$B,2,FALSE)),3)), "-") -> 0 | M18: =IFERROR(VLOOKUP(A18,'Detailed Dashboard'!$A:$AD,12,FALSE),"-") -> 0 | N18: =IFERROR(P18*D18, "-") -> 0 | O18: =IFERROR(VLOOKUP(A18,'Detailed Dashboard'!$A:$AD,9,FALSE),"-") -> 0 | P18: =IFERROR(VLOOKUP(A18,'Detailed Dashboard'!$A:$AD,10,FALSE),"-") -> 0 | Q18: =IFERROR(VLOOKUP(A18,'Detailed Dashboard'!$A:$AD,11,FALSE),"-") -> 0 | S18: August | T18: =SUMIF($L$2:$L$300,"=2",$H$2:$H$300)/4 + SUMIF($L$2:$L$300,"=4",$H$2:$H$300)/12 -> 0
C19: =IFERROR(VLOOKUP(A19,'Detailed Dashboard'!$A:$AD,23,FALSE),"-") -> 0 | D19: =IFERROR(F19/SUM($F$2:$F$301),"-") -> 0 | E19: =IFERROR(VLOOKUP(A19,'Detailed Dashboard'!$A:$AD,5,FALSE),"-") -> 0 | F19: =IFERROR(E19*B19,0) -> 0 | G19: =IFERROR(VLOOKUP(A19,'Detailed Dashboard'!$A:$AD,8,FALSE),"-") -> 0 | H19: =IFERROR(E19*B19*G19,"-") -> 0 | I19: =IFERROR(VLOOKUP(A19,'Detailed Dashboard'!$A:$AD,15,FALSE),"-") -> 0 | J19: =IFERROR(VLOOKUP(A19,'Detailed Dashboard'!$A:$AD,14,FALSE),"-") -> 0 | K19: =IFERROR(VLOOKUP(A19,'Detailed Dashboard'!$A:$AD,17,FALSE),"-") -> 0 | L19: =IFERROR(IF(VLOOKUP(A19,'Payment Dates'!$A:$B,2,FALSE)="monthly",4, MOD(MONTH(VLOOKUP(A19,'Payment Dates'!$A:$B,2,FALSE)),3)), "-") -> 0 | M19: =IFERROR(VLOOKUP(A19,'Detailed Dashboard'!$A:$AD,12,FALSE),"-") -> 0 | N19: =IFERROR(P19*D19, "-") -> 0 | O19: =IFERROR(VLOOKUP(A19,'Detailed Dashboard'!$A:$AD,9,FALSE),"-") -> 0 | P19: =IFERROR(VLOOKUP(A19,'Detailed Dashboard'!$A:$AD,10,FALSE),"-") -> 0 | Q19: =IFERROR(VLOOKUP(A19,'Detailed Dashboard'!$A:$AD,11,FALSE),"-") -> 0 | S19: September | T19: =SUMIF($L$2:$L$300,"=0",$H$2:$H$300)/4 + SUMIF($L$2:$L$300,"=4",$H$2:$H$300)/12 -> 0
C20: =IFERROR(VLOOKUP(A20,'Detailed Dashboard'!$A:$AD,23,FALSE),"-") -> 0 | D20: =IFERROR(F20/SUM($F$2:$F$301),"-") -> 0 | E20: =IFERROR(VLOOKUP(A20,'Detailed Dashboard'!$A:$AD,5,FALSE),"-") -> 0 | F20: =IFERROR(E20*B20,0) -> 0 | G20: =IFERROR(VLOOKUP(A20,'Detailed Dashboard'!$A:$AD,8,FALSE),"-") -> 0 | H20: =IFERROR(E20*B20*G20,"-") -> 0 | I20: =IFERROR(VLOOKUP(A20,'Detailed Dashboard'!$A:$AD,15,FALSE),"-") -> 0 | J20: =IFERROR(VLOOKUP(A20,'Detailed Dashboard'!$A:$AD,14,FALSE),"-") -> 0 | K20: =IFERROR(VLOOKUP(A20,'Detailed Dashboard'!$A:$AD,17,FALSE),"-") -> 0 | L20: =IFERROR(IF(VLOOKUP(A20,'Payment Dates'!$A:$B,2,FALSE)="monthly",4, MOD(MONTH(VLOOKUP(A20,'Payment Dates'!$A:$B,2,FALSE)),3)), "-") -> 0 | M20: =IFERROR(VLOOKUP(A20,'Detailed Dashboard'!$A:$AD,12,FALSE),"-") -> 0 | N20: =IFERROR(P20*D20, "-") -> 0 | O20: =IFERROR(VLOOKUP(A20,'Detailed Dashboard'!$A:$AD,9,FALSE),"-") -> 0 | P20: =IFERROR(VLOOKUP(A20,'Detailed Dashboard'!$A:$AD,10,FALSE),"-") -> 0 | Q20: =IFERROR(VLOOKUP(A20,'Detailed Dashboard'!$A:$AD,11,FALSE),"-") -> 0 | S20: October | T20: =SUMIF($L$2:$L$300,"=1",$H$2:$H$300)/4 + SUMIF($L$2:$L$300,"=4",$H$2:$H$300)/12 -> 0
C21: =IFERROR(VLOOKUP(A21,'Detailed Dashboard'!$A:$AD,23,FALSE),"-") -> 0 | D21: =IFERROR(F21/SUM($F$2:$F$301),"-") -> 0 | E21: =IFERROR(VLOOKUP(A21,'Detailed Dashboard'!$A:$AD,5,FALSE),"-") -> 0 | F21: =IFERROR(E21*B21,0) -> 0 | G21: =IFERROR(VLOOKUP(A21,'Detailed Dashboard'!$A:$AD,8,FALSE),"-") -> 0 | H21: =IFERROR(E21*B21*G21,"-") -> 0 | I21: =IFERROR(VLOOKUP(A21,'Detailed Dashboard'!$A:$AD,15,FALSE),"-") -> 0 | J21: =IFERROR(VLOOKUP(A21,'Detailed Dashboard'!$A:$AD,14,FALSE),"-") -> 0 | K21: =IFERROR(VLOOKUP(A21,'Detailed Dashboard'!$A:$AD,17,FALSE),"-") -> 0 | L21: =IFERROR(IF(VLOOKUP(A21,'Payment Dates'!$A:$B,2,FALSE)="monthly",4, MOD(MONTH(VLOOKUP(A21,'Payment Dates'!$A:$B,2,FALSE)),3)), "-") -> 0 | M21: =IFERROR(VLOOKUP(A21,'Detailed Dashboard'!$A:$AD,12,FALSE),"-") -> 0 | N21: =IFERROR(P21*D21, "-") -> 0 | O21: =IFERROR(VLOOKUP(A21,'Detailed Dashboard'!$A:$AD,9,FALSE),"-") -> 0 | P21: =IFERROR(VLOOKUP(A21,'Detailed Dashboard'!$A:$AD,10,FALSE),"-") -> 0 | Q21: =IFERROR(VLOOKUP(A21,'Detailed Dashboard'!$A:$AD,11,FALSE),"-") -> 0 | S21: November | T21: =SUMIF($L$2:$L$300,"=2",$H$2:$H$300)/4 + SUMIF($L$2:$L$300,"=4",$H$2:$H$300)/12 -> 0
C22: =IFERROR(VLOOKUP(A22,'Detailed Dashboard'!$A:$AD,23,FALSE),"-") -> 0 | D22: =IFERROR(F22/SUM($F$2:$F$301),"-") -> 0 | E22: =IFERROR(VLOOKUP(A22,'Detailed Dashboard'!$A:$AD,5,FALSE),"-") -> 0 | F22: =IFERROR(E22*B22,0) -> 0 | G22: =IFERROR(VLOOKUP(A22,'Detailed Dashboard'!$A:$AD,8,FALSE),"-") -> 0 | H22: =IFERROR(E22*B22*G22,"-") -> 0 | I22: =IFERROR(VLOOKUP(A22,'Detailed Dashboard'!$A:$AD,15,FALSE),"-") -> 0 | J22: =IFERROR(VLOOKUP(A22,'Detailed Dashboard'!$A:$AD,14,FALSE),"-") -> 0 | K22: =IFERROR(VLOOKUP(A22,'Detailed Dashboard'!$A:$AD,17,FALSE),"-") -> 0 | L22: =IFERROR(IF(VLOOKUP(A22,'Payment Dates'!$A:$B,2,FALSE)="monthly",4, MOD(MONTH(VLOOKUP(A22,'Payment Dates'!$A:$B,2,FALSE)),3)), "-") -> 0 | M22: =IFERROR(VLOOKUP(A22,'Detailed Dashboard'!$A:$AD,12,FALSE),"-") -> 0 | N22: =IFERROR(P22*D22, "-") -> 0 | O22: =IFERROR(VLOOKUP(A22,'Detailed Dashboard'!$A:$AD,9,FALSE),"-") -> 0 | P22: =IFERROR(VLOOKUP(A22,'Detailed Dashboard'!$A:$AD,10,FALSE),"-") -> 0 | Q22: =IFERROR(VLOOKUP(A22,'Detailed Dashboard'!$A:$AD,11,FALSE),"-") -> 0 | S22: December | T22: =SUMIF($L$2:$L$300,"=0",$H$2:$H$300)/4 + SUMIF($L$2:$L$300,"=4",$H$2:$H$300)/12 -> 0
C23: =IFERROR(VLOOKUP(A23,'Detailed Dashboard'!$A:$AD,23,FALSE),"-") -> 0 | D23: =IFERROR(F23/SUM($F$2:$F$301),"-") -> 0 | E23: =IFERROR(VLOOKUP(A23,'Detailed Dashboard'!$A:$AD,5,FALSE),"-") -> 0 | F23: =IFERROR(E23*B23,0) -> 0 | G23: =IFERROR(VLOOKUP(A23,'Detailed Dashboard'!$A:$AD,8,FALSE),"-") -> 0 | H23: =IFERROR(E23*B23*G23,"-") -> 0 | I23: =IFERROR(VLOOKUP(A23,'Detailed Dashboard'!$A:$AD,15,FALSE),"-") -> 0 | J23: =IFERROR(VLOOKUP(A23,'Detailed Dashboard'!$A:$AD,14,FALSE),"-") -> 0 | K23: =IFERROR(VLOOKUP(A23,'Detailed Dashboard'!$A:$AD,17,FALSE),"-") -> 0 | L23: =IFERROR(IF(VLOOKUP(A23,'Payment Dates'!$A:$B,2,FALSE)="monthly",4, MOD(MONTH(VLOOKUP(A23,'Payment Dates'!$A:$B,2,FALSE)),3)), "-") -> 0 | M23: =IFERROR(VLOOKUP(A23,'Detailed Dashboard'!$A:$AD,12,FALSE),"-") -> 0 | N23: =IFERROR(P23*D23, "-") -> 0 | O23: =IFERROR(VLOOKUP(A23,'Detailed Dashboard'!$A:$AD,9,FALSE),"-") -> 0 | P23: =IFERROR(VLOOKUP(A23,'Detailed Dashboard'!$A:$AD,10,FALSE),"-") -> 0 | Q23: =IFERROR(VLOOKUP(A23,'Detailed Dashboard'!$A:$AD,11,FALSE),"-") -> 0
C24: =IFERROR(VLOOKUP(A24,'Detailed Dashboard'!$A:$AD,23,FALSE),"-") -> 0 | D24: =IFERROR(F24/SUM($F$2:$F$301),"-") -> 0 | E24: =IFERROR(VLOOKUP(A24,'Detailed Dashboard'!$A:$AD,5,FALSE),"-") -> 0 | F24: =IFERROR(E24*B24,0) -> 0 | G24: =IFERROR(VLOOKUP(A24,'Detailed Dashboard'!$A:$AD,8,FALSE),"-") -> 0 | H24: =IFERROR(E24*B24*G24,"-") -> 0 | I24: =IFERROR(VLOOKUP(A24,'Detailed Dashboard'!$A:$AD,15,FALSE),"-") -> 0 | J24: =IFERROR(VLOOKUP(A24,'Detailed Dashboard'!$A:$AD,14,FALSE),"-") -> 0 | K24: =IFERROR(VLOOKUP(A24,'Detailed Dashboard'!$A:$AD,17,FALSE),"-") -> 0 | L24: =IFERROR(IF(VLOOKUP(A24,'Payment Dates'!$A:$B,2,FALSE)="monthly",4, MOD(MONTH(VLOOKUP(A24,'Payment Dates'!$A:$B,2,FALSE)),3)), "-") -> 0 | M24: =IFERROR(VLOOKUP(A24,'Detailed Dashboard'!$A:$AD,12,FALSE),"-") -> 0 | N24: =IFERROR(P24*D24, "-") -> 0 | O24: =IFERROR(VLOOKUP(A24,'Detailed Dashboard'!$A:$AD,9,FALSE),"-") -> 0 | P24: =IFERROR(VLOOKUP(A24,'Detailed Dashboard'!$A:$AD,10,FALSE),"-") -> 0 | Q24: =IFERROR(VLOOKUP(A24,'Detailed Dashboard'!$A:$AD,11,FALSE),"-") -> 0 | S24: Dividend Income by Sector
C25: =IFERROR(VLOOKUP(A25,'Detailed Dashboard'!$A:$AD,23,FALSE),"-") -> 0 | D25: =IFERROR(F25/SUM($F$2:$F$301),"-") -> 0 | E25: =IFERROR(VLOOKUP(A25,'Detailed Dashboard'!$A:$AD,5,FALSE),"-") -> 0 | F25: =IFERROR(E25*B25,0) -> 0 | G25: =IFERROR(VLOOKUP(A25,'Detailed Dashboard'!$A:$AD,8,FALSE),"-") -> 0 | H25: =IFERROR(E25*B25*G25,"-") -> 0 | I25: =IFERROR(VLOOKUP(A25,'Detailed Dashboard'!$A:$AD,15,FALSE),"-") -> 0 | J25: =IFERROR(VLOOKUP(A25,'Detailed Dashboard'!$A:$AD,14,FALSE),"-") -> 0 | K25: =IFERROR(VLOOKUP(A25,'Detailed Dashboard'!$A:$AD,17,FALSE),"-") -> 0 | L25: =IFERROR(IF(VLOOKUP(A25,'Payment Dates'!$A:$B,2,FALSE)="monthly",4, MOD(MONTH(VLOOKUP(A25,'Payment Dates'!$A:$B,2,FALSE)),3)), "-") -> 0 | M25: =IFERROR(VLOOKUP(A25,'Detailed Dashboard'!$A:$AD,12,FALSE),"-") -> 0 | N25: =IFERROR(P25*D25, "-") -> 0 | O25: =IFERROR(VLOOKUP(A25,'Detailed Dashboard'!$A:$AD,9,FALSE),"-") -> 0 | P25: =IFERROR(VLOOKUP(A25,'Detailed Dashboard'!$A:$AD,10,FALSE),"-") -> 0 | Q25: =IFERROR(VLOOKUP(A25,'Detailed Dashboard'!$A:$AD,11,FALSE),"-") -> 0 | S25: Materials | T25: =SUMIF($C$2:$C$300,"=Materials",$H$2:$H$300) -> 0
C26: =IFERROR(VLOOKUP(A26,'Detailed Dashboard'!$A:$AD,23,FALSE),"-") -> 0 | D26: =IFERROR(F26/SUM($F$2:$F$301),"-") -> 0 | E26: =IFERROR(VLOOKUP(A26,'Detailed Dashboard'!$A:$AD,5,FALSE),"-") -> 0 | F26: =IFERROR(E26*B26,0) -> 0 | G26: =IFERROR(VLOOKUP(A26,'Detailed Dashboard'!$A:$AD,8,FALSE),"-") -> 0 | H26: =IFERROR(E26*B26*G26,"-") -> 0 | I26: =IFERROR(VLOOKUP(A26,'Detailed Dashboard'!$A:$AD,15,FALSE),"-") -> 0 | J26: =IFERROR(VLOOKUP(A26,'Detailed Dashboard'!$A:$AD,14,FALSE),"-") -> 0 | K26: =IFERROR(VLOOKUP(A26,'Detailed Dashboard'!$A:$AD,17,FALSE),"-") -> 0 | L26: =IFERROR(IF(VLOOKUP(A26,'Payment Dates'!$A:$B,2,FALSE)="monthly",4, MOD(MONTH(VLOOKUP(A26,'Payment Dates'!$A:$B,2,FALSE)),3)), "-") -> 0 | M26: =IFERROR(VLOOKUP(A26,'Detailed Dashboard'!$A:$AD,12,FALSE),"-") -> 0 | N26: =IFERROR(P26*D26, "-") -> 0 | O26: =IFERROR(VLOOKUP(A26,'Detailed Dashboard'!$A:$AD,9,FALSE),"-") -> 0 | P26: =IFERROR(VLOOKUP(A26,'Detailed Dashboard'!$A:$AD,10,FALSE),"-") -> 0 | Q26: =IFERROR(VLOOKUP(A26,'Detailed Dashboard'!$A:$AD,11,FALSE),"-") -> 0 | S26: Communication Services | T26: =SUMIF($C$2:$C$300,"=Communication Services",$H$2:$H$300) -> 0
C27: =IFERROR(VLOOKUP(A27,'Detailed Dashboard'!$A:$AD,23,FALSE),"-") -> 0 | D27: =IFERROR(F27/SUM($F$2:$F$301),"-") -> 0 | E27: =IFERROR(VLOOKUP(A27,'Detailed Dashboard'!$A:$AD,5,FALSE),"-") -> 0 | F27: =IFERROR(E27*B27,0) -> 0 | G27: =IFERROR(VLOOKUP(A27,'Detailed Dashboard'!$A:$AD,8,FALSE),"-") -> 0 | H27: =IFERROR(E27*B27*G27,"-") -> 0 | I27: =IFERROR(VLOOKUP(A27,'Detailed Dashboard'!$A:$AD,15,FALSE),"-") -> 0 | J27: =IFERROR(VLOOKUP(A27,'Detailed Dashboard'!$A:$AD,14,FALSE),"-") -> 0 | K27: =IFERROR(VLOOKUP(A27,'Detailed Dashboard'!$A:$AD,17,FALSE),"-") -> 0 | L27: =IFERROR(IF(VLOOKUP(A27,'Payment Dates'!$A:$B,2,FALSE)="monthly",4, MOD(MONTH(VLOOKUP(A27,'Payment Dates'!$A:$B,2,FALSE)),3)), "-") -> 0 | M27: =IFERROR(VLOOKUP(A27,'Detailed Dashboard'!$A:$AD,12,FALSE),"-") -> 0 | N27: =IFERROR(P27*D27, "-") -> 0 | O27: =IFERROR(VLOOKUP(A27,'Detailed Dashboard'!$A:$AD,9,FALSE),"-") -> 0 | P27: =IFERROR(VLOOKUP(A27,'Detailed Dashboard'!$A:$AD,10,FALSE),"-") -> 0 | Q27: =IFERROR(VLOOKUP(A27,'Detailed Dashboard'!$A:$AD,11,FALSE),"-") -> 0 | S27: Consumer Discretionary | T27: =SUMIF($C$2:$C$300,"=Consumer Discretionary",$H$2:$H$300) -> 0
C28: =IFERROR(VLOOKUP(A28,'Detailed Dashboard'!$A:$AD,23,FALSE),"-") -> 0 | D28: =IFERROR(F28/SUM($F$2:$F$301),"-") -> 0 | E28: =IFERROR(VLOOKUP(A28,'Detailed Dashboard'!$A:$AD,5,FALSE),"-") -> 0 | F28: =IFERROR(E28*B28,0) -> 0 | G28: =IFERROR(VLOOKUP(A28,'Detailed Dashboard'!$A:$AD,8,FALSE),"-") -> 0 | H28: =IFERROR(E28*B28*G28,"-") -> 0 | I28: =IFERROR(VLOOKUP(A28,'Detailed Dashboard'!$A:$AD,15,FALSE),"-") -> 0 | J28: =IFERROR(VLOOKUP(A28,'Detailed Dashboard'!$A:$AD,14,FALSE),"-") -> 0 | K28: =IFERROR(VLOOKUP(A28,'Detailed Dashboard'!$A:$AD,17,FALSE),"-") -> 0 | L28: =IFERROR(IF(VLOOKUP(A28,'Payment Dates'!$A:$B,2,FALSE)="monthly",4, MOD(MONTH(VLOOKUP(A28,'Payment Dates'!$A:$B,2,FALSE)),3)), "-") -> 0 | M28: =IFERROR(VLOOKUP(A28,'Detailed Dashboard'!$A:$AD,12,FALSE),"-") -> 0 | N28: =IFERROR(P28*D28, "-") -> 0 | O28: =IFERROR(VLOOKUP(A28,'Detailed Dashboard'!$A:$AD,9,FALSE),"-") -> 0 | P28: =IFERROR(VLOOKUP(A28,'Detailed Dashboard'!$A:$AD,10,FALSE),"-") -> 0 | Q28: =IFERROR(VLOOKUP(A28,'Detailed Dashboard'!$A:$AD,11,FALSE),"-") -> 0 | S28: Consumer Staples | T28: =SUMIF($C$2:$C$300,"=Consumer Staples",$H$2:$H$300) -> 0
C29: =IFERROR(VLOOKUP(A29,'Detailed Dashboard'!$A:$AD,23,FALSE),"-") -> 0 | D29: =IFERROR(F29/SUM($F$2:$F$301),"-") -> 0 | E29: =IFERROR(VLOOKUP(A29,'Detailed Dashboard'!$A:$AD,5,FALSE),"-") -> 0 | F29: =IFERROR(E29*B29,0) -> 0 | G29: =IFERROR(VLOOKUP(A29,'Detailed Dashboard'!$A:$AD,8,FALSE),"-") -> 0 | H29: =IFERROR(E29*B29*G29,"-") -> 0 | I29: =IFERROR(VLOOKUP(A29,'Detailed Dashboard'!$A:$AD,15,FALSE),"-") -> 0 | J29: =IFERROR(VLOOKUP(A29,'Detailed Dashboard'!$A:$AD,14,FALSE),"-") -> 0 | K29: =IFERROR(VLOOKUP(A29,'Detailed Dashboard'!$A:$AD,17,FALSE),"-") -> 0 | L29: =IFERROR(IF(VLOOKUP(A29,'Payment Dates'!$A:$B,2,FALSE)="monthly",4, MOD(MONTH(VLOOKUP(A29,'Payment Dates'!$A:$B,2,FALSE)),3)), "-") -> 0 | M29: =IFERROR(VLOOKUP(A29,'Detailed Dashboard'!$A:$AD,12,FALSE),"-") -> 0 | N29: =IFERROR(P29*D29, "-") -> 0 | O29: =IFERROR(VLOOKUP(A29,'Detailed Dashboard'!$A:$AD,9,FALSE),"-") -> 0 | P29: =IFERROR(VLOOKUP(A29,'Detailed Dashboard'!$A:$AD,10,FALSE),"-") -> 0 | Q29: =IFERROR(VLOOKUP(A29,'Detailed Dashboard'!$A:$AD,11,FALSE),"-") -> 0 | S29: Energy | T29: =SUMIF($C$2:$C$300,"=Energy",$H$2:$H$300) -> 0
C30: =IFERROR(VLOOKUP(A30,'Detailed Dashboard'!$A:$AD,23,FALSE),"-") -> 0 | D30: =IFERROR(F30/SUM($F$2:$F$301),"-") -> 0 | E30: =IFERROR(VLOOKUP(A30,'Detailed Dashboard'!$A:$AD,5,FALSE),"-") -> 0 | F30: =IFERROR(E30*B30,0) -> 0 | G30: =IFERROR(VLOOKUP(A30,'Detailed Dashboard'!$A:$AD,8,FALSE),"-") -> 0 | H30: =IFERROR(E30*B30*G30,"-") -> 0 | I30: =IFERROR(VLOOKUP(A30,'Detailed Dashboard'!$A:$AD,15,FALSE),"-") -> 0 | J30: =IFERROR(VLOOKUP(A30,'Detailed Dashboard'!$A:$AD,14,FALSE),"-") -> 0 | K30: =IFERROR(VLOOKUP(A30,'Detailed Dashboard'!$A:$AD,17,FALSE),"-") -> 0 | L30: =IFERROR(IF(VLOOKUP(A30,'Payment Dates'!$A:$B,2,FALSE)="monthly",4, MOD(MONTH(VLOOKUP(A30,'Payment Dates'!$A:$B,2,FALSE)),3)), "-") -> 0 | M30: =IFERROR(VLOOKUP(A30,'Detailed Dashboard'!$A:$AD,12,FALSE),"-") -> 0 | N30: =IFERROR(P30*D30, "-") -> 0 | O30: =IFERROR(VLOOKUP(A30,'Detailed Dashboard'!$A:$AD,9,FALSE),"-") -> 0 | P30: =IFERROR(VLOOKUP(A30,'Detailed Dashboard'!$A:$AD,10,FALSE),"-") -> 0 | Q30: =IFERROR(VLOOKUP(A30,'Detailed Dashboard'!$A:$AD,11,FALSE),"-") -> 0 | S30: Financials | T30: =SUMIF($C$2:$C$300,"=Financials",$H$2:$H$300) -> 0
C31: =IFERROR(VLOOKUP(A31,'Detailed Dashboard'!$A:$AD,23,FALSE),"-") -> 0 | D31: =IFERROR(F31/SUM($F$2:$F$301),"-") -> 0 | E31: =IFERROR(VLOOKUP(A31,'Detailed Dashboard'!$A:$AD,5,FALSE),"-") -> 0 | F31: =IFERROR(E31*B31,0) -> 0 | G31: =IFERROR(VLOOKUP(A31,'Detailed Dashboard'!$A:$AD,8,FALSE),"-") -> 0 | H31: =IFERROR(E31*B31*G31,"-") -> 0 | I31: =IFERROR(VLOOKUP(A31,'Detailed Dashboard'!$A:$AD,15,FALSE),"-") -> 0 | J31: =IFERROR(VLOOKUP(A31,'Detailed Dashboard'!$A:$AD,14,FALSE),"-") -> 0 | K31: =IFERROR(VLOOKUP(A31,'Detailed Dashboard'!$A:$AD,17,FALSE),"-") -> 0 | L31: =IFERROR(IF(VLOOKUP(A31,'Payment Dates'!$A:$B,2,FALSE)="monthly",4, MOD(MONTH(VLOOKUP(A31,'Payment Dates'!$A:$B,2,FALSE)),3)), "-") -> 0 | M31: =IFERROR(VLOOKUP(A31,'Detailed Dashboard'!$A:$AD,12,FALSE),"-") -> 0 | N31: =IFERROR(P31*D31, "-") -> 0 | O31: =IFERROR(VLOOKUP(A31,'Detailed Dashboard'!$A:$AD,9,FALSE),"-") -> 0 | P31: =IFERROR(VLOOKUP(A31,'Detailed Dashboard'!$A:$AD,10,FALSE),"-") -> 0 | Q31: =IFERROR(VLOOKUP(A31,'Detailed Dashboard'!$A:$AD,11,FALSE),"-") -> 0 | S31: Health Care | T31: =SUMIF($C$2:$C$300,"=Health Care",$H$2:$H$300) -> 0
C32: =IFERROR(VLOOKUP(A32,'Detailed Dashboard'!$A:$AD,23,FALSE),"-") -> 0 | D32: =IFERROR(F32/SUM($F$2:$F$301),"-") -> 0 | E32: =IFERROR(VLOOKUP(A32,'Detailed Dashboard'!$A:$AD,5,FALSE),"-") -> 0 | F32: =IFERROR(E32*B32,0) -> 0 | G32: =IFERROR(VLOOKUP(A32,'Detailed Dashboard'!$A:$AD,8,FALSE),"-") -> 0 | H32: =IFERROR(E32*B32*G32,"-") -> 0 | I32: =IFERROR(VLOOKUP(A32,'Detailed Dashboard'!$A:$AD,15,FALSE),"-") -> 0 | J32: =IFERROR(VLOOKUP(A32,'Detailed Dashboard'!$A:$AD,14,FALSE),"-") -> 0 | K32: =IFERROR(VLOOKUP(A32,'Detailed Dashboard'!$A:$AD,17,FALSE),"-") -> 0 | L32: =IFERROR(IF(VLOOKUP(A32,'Payment Dates'!$A:$B,2,FALSE)="monthly",4, MOD(MONTH(VLOOKUP(A32,'Payment Dates'!$A:$B,2,FALSE)),3)), "-") -> 0 | M32: =IFERROR(VLOOKUP(A32,'Detailed Dashboard'!$A:$AD,12,FALSE),"-") -> 0 | N32: =IFERROR(P32*D32, "-") -> 0 | O32: =IFERROR(VLOOKUP(A32,'Detailed Dashboard'!$A:$AD,9,FALSE),"-") -> 0 | P32: =IFERROR(VLOOKUP(A32,'Detailed Dashboard'!$A:$AD,10,FALSE),"-") -> 0 | Q32: =IFERROR(VLOOKUP(A32,'Detailed Dashboard'!$A:$AD,11,FALSE),"-") -> 0 | S32: Industrials | T32: =SUMIF($C$2:$C$300,"=Industrials",$H$2:$H$300) -> 0
C33: =IFERROR(VLOOKUP(A33,'Detailed Dashboard'!$A:$AD,23,FALSE),"-") -> 0 | D33: =IFERROR(F33/SUM($F$2:$F$301),"-") -> 0 | E33: =IFERROR(VLOOKUP(A33,'Detailed Dashboard'!$A:$AD,5,FALSE),"-") -> 0 | F33: =IFERROR(E33*B33,0) -> 0 | G33: =IFERROR(VLOOKUP(A33,'Detailed Dashboard'!$A:$AD,8,FALSE),"-") -> 0 | H33: =IFERROR(E33*B33*G33,"-") -> 0 | I33: =IFERROR(VLOOKUP(A33,'Detailed Dashboard'!$A:$AD,15,FALSE),"-") -> 0 | J33: =IFERROR(VLOOKUP(A33,'Detailed Dashboard'!$A:$AD,14,FALSE),"-") -> 0 | K33: =IFERROR(VLOOKUP(A33,'Detailed Dashboard'!$A:$AD,17,FALSE),"-") -> 0 | L33: =IFERROR(IF(VLOOKUP(A33,'Payment Dates'!$A:$B,2,FALSE)="monthly",4, MOD(MONTH(VLOOKUP(A33,'Payment Dates'!$A:$B,2,FALSE)),3)), "-") -> 0 | M33: =IFERROR(VLOOKUP(A33,'Detailed Dashboard'!$A:$AD,12,FALSE),"-") -> 0 | N33: =IFERROR(P33*D33, "-") -> 0 | O33: =IFERROR(VLOOKUP(A33,'Detailed Dashboard'!$A:$AD,9,FALSE),"-") -> 0 | P33: =IFERROR(VLOOKUP(A33,'Detailed Dashboard'!$A:$AD,10,FALSE),"-") -> 0 | Q33: =IFERROR(VLOOKUP(A33,'Detailed Dashboard'!$A:$AD,11,FALSE),"-") -> 0 | S33: Real Estate | T33: =SUMIF($C$2:$C$300,"=Real Estate",$H$2:$H$300) -> 0
C34: =IFERROR(VLOOKUP(A34,'Detailed Dashboard'!$A:$AD,23,FALSE),"-") -> 0 | D34: =IFERROR(F34/SUM($F$2:$F$301),"-") -> 0 | E34: =IFERROR(VLOOKUP(A34,'Detailed Dashboard'!$A:$AD,5,FALSE),"-") -> 0 | F34: =IFERROR(E34*B34,0) -> 0 | G34: =IFERROR(VLOOKUP(A34,'Detailed Dashboard'!$A:$AD,8,FALSE),"-") -> 0 | H34: =IFERROR(E34*B34*G34,"-") -> 0 | I34: =IFERROR(VLOOKUP(A34,'Detailed Dashboard'!$A:$AD,15,FALSE),"-") -> 0 | J34: =IFERROR(VLOOKUP(A34,'Detailed Dashboard'!$A:$AD,14,FALSE),"-") -> 0 | K34: =IFERROR(VLOOKUP(A34,'Detailed Dashboard'!$A:$AD,17,FALSE),"-") -> 0 | L34: =IFERROR(IF(VLOOKUP(A34,'Payment Dates'!$A:$B,2,FALSE)="monthly",4, MOD(MONTH(VLOOKUP(A34,'Payment Dates'!$A:$B,2,FALSE)),3)), "-") -> 0 | M34: =IFERROR(VLOOKUP(A34,'Detailed Dashboard'!$A:$AD,12,FALSE),"-") -> 0 | N34: =IFERROR(P34*D34, "-") -> 0 | O34: =IFERROR(VLOOKUP(A34,'Detailed Dashboard'!$A:$AD,9,FALSE),"-") -> 0 | P34: =IFERROR(VLOOKUP(A34,'Detailed Dashboard'!$A:$AD,10,FALSE),"-") -> 0 | Q34: =IFERROR(VLOOKUP(A34,'Detailed Dashboard'!$A:$AD,11,FALSE),"-") -> 0 | S34: Information Technology | T34: =SUMIF($C$2:$C$300,"=Information Technology",$H$2:$H$300) -> 0
C35: =IFERROR(VLOOKUP(A35,'Detailed Dashboard'!$A:$AD,23,FALSE),"-") -> 0 | D35: =IFERROR(F35/SUM($F$2:$F$301),"-") -> 0 | E35: =IFERROR(VLOOKUP(A35,'Detailed Dashboard'!$A:$AD,5,FALSE),"-") -> 0 | F35: =IFERROR(E35*B35,0) -> 0 | G35: =IFERROR(VLOOKUP(A35,'Detailed Dashboard'!$A:$AD,8,FALSE),"-") -> 0 | H35: =IFERROR(E35*B35*G35,"-") -> 0 | I35: =IFERROR(VLOOKUP(A35,'Detailed Dashboard'!$A:$AD,15,FALSE),"-") -> 0 | J35: =IFERROR(VLOOKUP(A35,'Detailed Dashboard'!$A:$AD,14,FALSE),"-") -> 0 | K35: =IFERROR(VLOOKUP(A35,'Detailed Dashboard'!$A:$AD,17,FALSE),"-") -> 0 | L35: =IFERROR(IF(VLOOKUP(A35,'Payment Dates'!$A:$B,2,FALSE)="monthly",4, MOD(MONTH(VLOOKUP(A35,'Payment Dates'!$A:$B,2,FALSE)),3)), "-") -> 0 | M35: =IFERROR(VLOOKUP(A35,'Detailed Dashboard'!$A:$AD,12,FALSE),"-") -> 0 | N35: =IFERROR(P35*D35, "-") -> 0 | O35: =IFERROR(VLOOKUP(A35,'Detailed Dashboard'!$A:$AD,9,FALSE),"-") -> 0 | P35: =IFERROR(VLOOKUP(A35,'Detailed Dashboard'!$A:$AD,10,FALSE),"-") -> 0 | Q35: =IFERROR(VLOOKUP(A35,'Detailed Dashboard'!$A:$AD,11,FALSE),"-") -> 0 | S35: Utilities | T35: =SUMIF($C$2:$C$300,"=Utilities",$H$2:$H$300) -> 0
C36: =IFERROR(VLOOKUP(A36,'Detailed Dashboard'!$A:$AD,23,FALSE),"-") -> 0 | D36: =IFERROR(F36/SUM($F$2:$F$301),"-") -> 0 | E36: =IFERROR(VLOOKUP(A36,'Detailed Dashboard'!$A:$AD,5,FALSE),"-") -> 0 | F36: =IFERROR(E36*B36,0) -> 0 | G36: =IFERROR(VLOOKUP(A36,'Detailed Dashboard'!$A:$AD,8,FALSE),"-") -> 0 | H36: =IFERROR(E36*B36*G36,"-") -> 0 | I36: =IFERROR(VLOOKUP(A36,'Detailed Dashboard'!$A:$AD,15,FALSE),"-") -> 0 | J36: =IFERROR(VLOOKUP(A36,'Detailed Dashboard'!$A:$AD,14,FALSE),"-") -> 0 | K36: =IFERROR(VLOOKUP(A36,'Detailed Dashboard'!$A:$AD,17,FALSE),"-") -> 0 | L36: =IFERROR(IF(VLOOKUP(A36,'Payment Dates'!$A:$B,2,FALSE)="monthly",4, MOD(MONTH(VLOOKUP(A36,'Payment Dates'!$A:$B,2,FALSE)),3)), "-") -> 0 | M36: =IFERROR(VLOOKUP(A36,'Detailed Dashboard'!$A:$AD,12,FALSE),"-") -> 0 | N36: =IFERROR(P36*D36, "-") -> 0 | O36: =IFERROR(VLOOKUP(A36,'Detailed Dashboard'!$A:$AD,9,FALSE),"-") -> 0 | P36: =IFERROR(VLOOKUP(A36,'Detailed Dashboard'!$A:$AD,10,FALSE),"-") -> 0 | Q36: =IFERROR(VLOOKUP(A36,'Detailed Dashboard'!$A:$AD,11,FALSE),"-") -> 0
C37: =IFERROR(VLOOKUP(A37,'Detailed Dashboard'!$A:$AD,23,FALSE),"-") -> 0 | D37: =IFERROR(F37/SUM($F$2:$F$301),"-") -> 0 | E37: =IFERROR(VLOOKUP(A37,'Detailed Dashboard'!$A:$AD,5,FALSE),"-") -> 0 | F37: =IFERROR(E37*B37,0) -> 0 | G37: =IFERROR(VLOOKUP(A37,'Detailed Dashboard'!$A:$AD,8,FALSE),"-") -> 0 | H37: =IFERROR(E37*B37*G37,"-") -> 0 | I37: =IFERROR(VLOOKUP(A37,'Detailed Dashboard'!$A:$AD,15,FALSE),"-") -> 0 | J37: =IFERROR(VLOOKUP(A37,'Detailed Dashboard'!$A:$AD,14,FALSE),"-") -> 0 | K37: =IFERROR(VLOOKUP(A37,'Detailed Dashboard'!$A:$AD,17,FALSE),"-") -> 0 | L37: =IFERROR(IF(VLOOKUP(A37,'Payment Dates'!$A:$B,2,FALSE)="monthly",4, MOD(MONTH(VLOOKUP(A37,'Payment Dates'!$A:$B,2,FALSE)),3)), "-") -> 0 | M37: =IFERROR(VLOOKUP(A37,'Detailed Dashboard'!$A:$AD,12,FALSE),"-") -> 0 | N37: =IFERROR(P37*D37, "-") -> 0 | O37: =IFERROR(VLOOKUP(A37,'Detailed Dashboard'!$A:$AD,9,FALSE),"-") -> 0 | P37: =IFERROR(VLOOKUP(A37,'Detailed Dashboard'!$A:$AD,10,FALSE),"-") -> 0 | Q37: =IFERROR(VLOOKUP(A37,'Detailed Dashboard'!$A:$AD,11,FALSE),"-") -> 0 | S37: Dividend Income by Time Period
