Workbook

Sheet Detailed Dashboard
A1: Ticker | B1: Name (Click to Read Analysis) | C1: Stock Price | D1: Fair Value Price | E1: Percent Fair Value | F1: Dividend Yield | G1: Valuation Return | H1: Growth Return | I1: Expected Total Return | J1: Dividend Risk Score | K1: Retirement Suitability Score | L1: Forward EPS Estimate (or Similar Metric) | M1: Annual Dividend Payments | N1: Payout Ratio | O1: Years of Dividend Growth | P1: Dividend Growth Rate | Q1: Trailing 1-Year Total Return | R1: Security Type | S1: Sector | T1: Market Cap (millions) | U1: Last Report | V1: Analyst
A2: TCEHY | B2: =HYPERLINK("https://www.suredividend.com/sure-analysis-TCEHY/","Tencent Holdings Ltd.") -> 0 | C2: 64.07 | D2: 75 | E2: 0.85426667 | F2: 0.0042141408 | G2: 0.032003827 | H2: 0.18 | I2: 0.22119542 | J2: A | K2: C | L2: 3 | M2: 0.27 | N2: 0.09 | O2: 11 | P2: 0.20289863 | Q2: -0.1200495 | R2: Stock | S2: Communication Services | T2: 614064.43 | U2: 44427 | V2: Nikos Sismanis
A3: BMY | B3: =HYPERLINK("https://www.suredividend.com/sure-analysis-BMY/","Bristol-Myers Squibb Co.") -> 0 | C3: 56.94 | D3: 101 | E3: 0.56376238 | F3: 0.034422199 | G3: 0.12145224 | H3: 0.03 | I3: 0.17670108 | J3: A | K3: A | L3: 7.45 | M3: 1.96 | N3: 0.26308725 | O3: 11 | P3: 0.04987305 | Q3: -0.016836424 | R3: Stock | S3: Healthcare | T3: 129682.55 | U3: 44405 | V3: Nathan Parsh
A4: RGLD | B4: =HYPERLINK("https://www.suredividend.com/sure-analysis-RGLD/","Royal Gold, Inc.") -> 0 | C4: 98.25 | D4: 146 | E4: 0.67294521 | F4: 0.01221374 | G4: 0.082440565 | H4: 0.055 | I4: 0.15120573 | J4: A | K4: C | L4: 4.18 | M4: 1.2 | N4: 0.28708134 | O4: 20 | P4: 0.090430766 | Q4: -0.1827951 | R4: Stock | S4: Basic Materials | T4: 6495.4663 | U4: 44421 | V4: Quinn Mohammed
A5: ABM | B5: =HYPERLINK("https://www.suredividend.com/sure-analysis-ABM/","ABM Industries Inc.") -> 0 | C5: 44.84 | D5: 61 | E5: 0.73508197 | F5: 0.016949153 | G5: 0.063488618 | H5: 0.05 | I5: 0.12833005 | J5: A | K5: B | L5: 3.5 | M5: 0.76 | N5: 0.21714286 | O5: 53 | P5: 0.029754779 | Q5: 0.32208265 | R5: Stock | S5: Industrials | T5: 3035.2649 | U5: 44453 | V5: Jonathan Weber
A6: FDX | B6: =HYPERLINK("https://www.suredividend.com/sure-analysis-FDX/","Fedex Corp") -> 0 | C6: 227.98 | D6: 296 | E6: 0.7702027 | F6: 0.013159049 | G6: 0.053607837 | H6: 0.06 | I6: 0.12674731 | J6: A | K6: C | L6: 20.4 | M6: 3 | N6: 0.14705882 | O6: 1 | P6: 0.059752924 | Q6: -0.18464868 | R6: Stock | S6: Industrials | T6: 60865.741 | U6: 44464 | V6: Nikos Sismanis
A7: DCI | B7: =HYPERLINK("https://www.suredividend.com/sure-analysis-DCI/","Donaldson Co. Inc.") -> 0 | C7: 59.06 | D7: 64 | E7: 0.9228125 | F7: 0.014900102 | G7: 0.016195591 | H7: 0.09 | I7: 0.11990414 | J7: A | K7: B | L7: 2.65 | M7: 0.88 | N7: 0.33207547 | O7: 34 | P7: 0.07949692 | Q7: 0.16918338 | R7: Stock | S7: Industrials | T7: 7286.8784 | U7: 44444 | V7: Josh Arnold
A8: SLGN | B8: =HYPERLINK("https://www.suredividend.com/sure-analysis-SLGN/","Silgan Holdings Inc.") -> 0 | C8: 40.26 | D8: 43 | E8: 0.93627907 | F8: 0.013909588 | G8: 0.013255424 | H8: 0.09 | I8: 0.11671217 | J8: A | K8: C | L8: 3.07 | M8: 0.56 | N8: 0.18241042 | O8: 17 | P8: 0.099539654 | Q8: 0.036953435 | R8: Stock | S8: Basic Materials | T8: 4483.6735 | U8: 44405 | V8: Nikos Sismanis
A9: BDX | B9: =HYPERLINK("https://www.suredividend.com/sure-analysis-BDX/","Becton, Dickinson And Co.") -> 0 | C9: 238.45 | D9: 240 | E9: 0.99354167 | F9: 0.013923254 | G9: 0.0012966957 | H9: 0.1 | I9: 0.11385418 | J9: A | K9: B | L9: 12.9 | M9: 3.32 | N9: 0.25736434 | O9: 49 | P9: 0.1001278 | Q9: 0.031461809 | R9: Stock | S9: Healthcare | T9: 69258.784 | U9: 44419 | V9: Nathan Parsh
A10: PH | B10: =HYPERLINK("https://www.suredividend.com/sure-analysis-PH/","Parker-Hannifin Corp.") -> 0 | C10: 295.78 | D10: 289 | E10: 1.0234602 | F10: 0.013929272 | G10: -0.0046271111 | H10: 0.1 | I10: 0.10763443 | J10: A | K10: B | L10: 17.5 | M10: 4.12 | N10: 0.23542857 | O10: 65 | P10: 0.10015575 | Q10: 0.35561958 | R10: Stock | S10: Industrials | T10: 38303.574 | U10: 44447 | V10: Aristofanis Papadatos
A11: WBA | B11: =HYPERLINK("https://www.suredividend.com/sure-analysis-WBA/","Walgreens Boots Alliance Inc") -> 0 | C11: 48.4 | D11: 54 | E11: 0.8962963 | F11: 0.03946281 | G11: 0.022138342 | H11: 0.05 | I11: 0.10574986 | J11: A | K11: A | L11: 5.35 | M11: 1.91 | N11: 0.35700935 | O11: 46 | P11: 0.050198254 | Q11: 0.36053665 | R11: Stock | S11: Healthcare | T11: 42345.757 | U11: 44483 | V11: Eli Inkrot
A12: SWKS | B12: =HYPERLINK("https://www.suredividend.com/sure-analysis-SWKS/","Skyworks Solutions, Inc.") -> 0 | C12: 161.28 | D12: 156 | E12: 1.0338462 | F12: 0.013888889 | G12: -0.0066350855 | H12: 0.1 | I12: 0.10513386 | J12: A | K12: C | L12: 10.41 | M12: 2.24 | N12: 0.21517771 | O12: 7 | P12: 0.090220177 | Q12: 0.061155419 | R12: Stock | S12: Technology | T12: 26510.716 | U12: 44443 | V12: Felix Martinez
A13: CAH | B13: =HYPERLINK("https://www.suredividend.com/sure-analysis-CAH/","Cardinal Health, Inc.") -> 0 | C13: 47.63 | D13: 58 | E13: 0.8212069 | F13: 0.041150535 | G13: 0.040182355 | H13: 0.03 | I13: 0.10442883 | J13: A | K13: A | L13: 5.75 | M13: 1.96 | N13: 0.34086957 | O13: 34 | P13: 0.039594988 | Q13: 0.030420107 | R13: Stock | S13: Healthcare | T13: 13773.56 | U13: 44417 | V13: Eli Inkrot
A14: TNC | B14: =HYPERLINK("https://www.suredividend.com/sure-analysis-TNC/","Tennant Co.") -> 0 | C14: 76.62 | D14: 82 | E14: 0.93439024 | F14: 0.012007309 | G14: 0.013664742 | H14: 0.08 | I14: 0.10426985 | J14: A | K14: B | L14: 4.3 | M14: 0.92 | N14: 0.21395349 | O14: 48 | P14: 0.04925152 | Q14: 0.22859324 | R14: Stock | S14: Industrials | T14: 1439.4035 | U14: 44424 | V14: Jonathan Weber
A15: ABBV | B15: =HYPERLINK("https://www.suredividend.com/sure-analysis-ABBV/","Abbvie Inc") -> 0 | C15: 107.43 | D15: 126 | E15: 0.85261905 | F15: 0.048403612 | G15: 0.032402372 | H15: 0.03 | I15: 0.10407776 | J15: A | K15: A | L15: 12.57 | M15: 5.2 | N15: 0.41368337 | O15: 49 | P15: 0.050105534 | Q15: 0.32808723 | R15: Stock | S15: Healthcare | T15: 193205.3 | U15: 44410 | V15: Jonathan Weber
A16: SWK | B16: =HYPERLINK("https://www.suredividend.com/sure-analysis-SWK/","Stanley Black & Decker Inc") -> 0 | C16: 182.72 | D16: 190 | E16: 0.96168421 | F16: 0.017294221 | G16: 0.0078444368 | H16: 0.08 | I16: 0.10364879 | J16: A | K16: B | L16: 11.5 | M16: 3.16 | N16: 0.27478261 | O16: 53 | P16: 0.07985683 | Q16: 0.045469011 | R16: Stock | S16: Industrials | T16: 29605.319 | U16: 44404 | V16: Nathan Parsh
A17: ADM | B17: =HYPERLINK("https://www.suredividend.com/sure-analysis-ADM/","Archer Daniels Midland Co.") -> 0 | C17: 63.8 | D17: 72 | E17: 0.88611111 | F17: 0.023197492 | G17: 0.024477356 | H17: 0.06 | I17: 0.10363142 | J17: A | K17: A | L17: 4.77 | M17: 1.48 | N17: 0.31027254 | O17: 46 | P17: 0.030512695 | Q17: 0.31766558 | R17: Stock | S17: Consumer Defensive | T17: 35729 | U17: 44426 | V17: Felix Martinez
A18: EFSI | B18: =HYPERLINK("https://www.suredividend.com/sure-analysis-EFSI/","Eagle Financial Services, Inc.") -> 0 | C18: 33.7 | D18: 37 | E18: 0.91081081 | F18: 0.033234421 | G18: 0.018859653 | H18: 0.055 | I18: 0.10201273 | J18: A | K18: A | L18: 3.4 | M18: 1.12 | N18: 0.32941176 | O18: 35 | P18: 0.045639553 | Q18: 0.3747583 | R18: Stock | S18: Financial Services | T18: 116.23817 | U18: 44408 | V18: Jonathan Weber
A19: SYK | B19: =HYPERLINK("https://www.suredividend.com/sure-analysis-SYK/","Stryker Corp.") -> 0 | C19: 262.05 | D19: 229 | E19: 1.1443231 | F19: 0.0096164854 | G19: -0.026602417 | H19: 0.12 | I19: 0.099723324 | J19: A | K19: C | L19: 9.33 | M19: 2.52 | N19: 0.27009646 | O19: 27 | P19: 0.11994446 | Q19: 0.20061311 | R19: Stock | S19: Healthcare | T19: 100428.28 | U19: 44405 | V19: Nathan Parsh
A20: JW.A | B20: =HYPERLINK("https://www.suredividend.com/sure-analysis-JW.A/","John Wiley & Sons Inc.") -> 0 | C20: 53.04 | D20: 62 | E20: 0.85548387 | F20: 0.0260181 | G20: 0.031709988 | H20: 0.045 | I20: 0.098421397 | J20: A | K20: B | L20: 4.12 | M20: 1.38 | N20: 0.33495146 | O20: 28 | P20: 0.030025981 | Q20: 0.67845395 | R20: Stock | S20: Communication Services | T20: 2948.8154 | U20: 44453 | V20: Jonathan Weber
A21: ATO | B21: =HYPERLINK("https://www.suredividend.com/sure-analysis-ATO/","Atmos Energy Corp.") -> 0 | C21: 91.1 | D21: 97 | E21: 0.93917526 | F21: 0.027442371 | G21: 0.012629725 | H21: 0.06 | I21: 0.098377599 | J21: A | K21: B | L21: 5.1 | M21: 2.5 | N21: 0.49019608 | O21: 37 | P21: 0.079804694 | Q21: 0.0035382817 | R21: Stock | S21: Utilities | T21: 12163.546 | U21: 44427 | V21: Josh Arnold
A22: UNM | B22: =HYPERLINK("https://www.suredividend.com/sure-analysis-UNM/","Unum Group") -> 0 | C22: 27.53 | D22: 34 | E22: 0.80970588 | F22: 0.043588812 | G22: 0.043120646 | H22: 0.02 | I22: 0.097792178 | J22: A | K22: A | L22: 4.8 | M22: 1.2 | N22: 0.25 | O22: 13 | P22: 0.019244876 | Q22: 0.54859651 | R22: Stock | S22: Financial Services | T22: 5616.7372 | U22: 44415 | V22: Eli Inkrot
A23: ANTM | B23: =HYPERLINK("https://www.suredividend.com/sure-analysis-ANTM/","Anthem Inc") -> 0 | C23: 388.21 | D23: 383 | E23: 1.0136031 | F23: 0.011643183 | G23: -0.0026986403 | H23: 0.09 | I23: 0.097720975 | J23: A | K23: C | L23: 25.5 | M23: 4.52 | N23: 0.1772549 | O23: 11 | P23: 0.089856388 | Q23: 0.34025403 | R23: Stock | S23: Healthcare | T23: 95831.674 | U23: 44398 | V23: Nathan Parsh
A24: ROP | B24: =HYPERLINK("https://www.suredividend.com/sure-analysis-ROP/","Roper Technologies Inc") -> 0 | C24: 468.53 | D24: 453 | E24: 1.0342826 | F24: 0.0048022539 | G24: -0.006718928 | H24: 0.1 | I24: 0.097095145 | J24: A | K24: C | L24: 15.1 | M24: 2.25 | N24: 0.14900662 | O24: 28 | P24: 0.099778463 | Q24: 0.082103055 | R24: Stock | S24: Industrials | T24: 49242.423 | U24: 44401 | V24: Nikos Sismanis
A25: PII | B25: =HYPERLINK("https://www.suredividend.com/sure-analysis-PII/","Polaris Inc") -> 0 | C25: 132.2 | D25: 152 | E25: 0.86973684 | F25: 0.019062027 | G25: 0.028306134 | H25: 0.05 | I25: 0.096211451 | J25: A | K25: B | L25: 9.48 | M25: 2.52 | N25: 0.26582278 | O25: 26 | P25: 0.064838416 | Q25: 0.38834514 | R25: Stock | S25: Consumer Cyclical | T25: 7906.9942 | U25: 44404 | V25: Eli Inkrot
A26: BANF | B26: =HYPERLINK("https://www.suredividend.com/sure-analysis-BANF/","Bancfirst Corp.") -> 0 | C26: 63.11 | D26: 68 | E26: 0.92808824 | F26: 0.021549675 | G26: 0.015037638 | H26: 0.06 | I26: 0.094504907 | J26: A | K26: B | L26: 4.55 | M26: 1.36 | N26: 0.2989011 | O26: 28 | P26: 0.060001539 | Q26: 0.48596626 | R26: Stock | S26: Financial Services | T26: 2088.0456 | U26: 44399 | V26: Felix Martinez
A27: MDU | B27: =HYPERLINK("https://www.suredividend.com/sure-analysis-MDU/","MDU Resources Group Inc") -> 0 | C27: 30.64 | D27: 34 | E27: 0.90117647 | F27: 0.027741514 | G27: 0.021028891 | H27: 0.05 | I27: 0.093787531 | J27: A | K27: A | L27: 2.1 | M27: 0.85 | N27: 0.4047619 | O27: 30 | P27: 0.024638008 | Q27: 0.32152385 | R27: Stock | S27: Basic Materials | T27: 6267.2616 | U27: 44428 | V27: Josh Arnold
A28: SKM | B28: =HYPERLINK("https://www.suredividend.com/sure-analysis-SKM/","SK Telecom Co Ltd") -> 0 | C28: 27.94 | D28: 30 | E28: 0.93133333 | F28: 0.035790981 | G28: 0.0143293 | H28: 0.05 | I28: 0.091513523 | J28: A | K28: A | L28: 9 | M28: 1 | N28: 0.11111111 | O28: 0 | P28: 0 | Q28: 0.30194046 | R28: Stock | S28: Communication Services | T28: 18314.806 | U28: 44439 | V28: Quinn Mohammed
A29: MATW | B29: =HYPERLINK("https://www.suredividend.com/sure-analysis-MATW/","Matthews International Corp.") -> 0 | C29: 34.7 | D29: 42 | E29: 0.82619048 | F29: 0.024783862 | G29: 0.038924441 | H29: 0.03 | I29: 0.09120454 | J29: A | K29: B | L29: 3.25 | M29: 0.86 | N29: 0.26461538 | O29: 27 | P29: 0.050458372 | Q29: 0.53210265 | R29: Stock | S29: Industrials | T29: 1110.8693 | U29: 44417 | V29: Quinn Mohammed
A30: BKH | B30: =HYPERLINK("https://www.suredividend.com/sure-analysis-BKH/","Black Hills Corporation") -> 0 | C30: 63.87 | D30: 70 | E30: 0.91242857 | F30: 0.035384375 | G30: 0.018498104 | H30: 0.04 | I30: 0.089986092 | J30: A | K30: A | L30: 3.9 | M30: 2.26 | N30: 0.57948718 | O30: 49 | P30: 0.049679727 | Q30: 0.14943961 | R30: Stock | S30: Utilities | T30: 4098.921 | U30: 44418 | V30: Jonathan Weber
A31: WHR | B31: =HYPERLINK("https://www.suredividend.com/sure-analysis-WHR/","Whirlpool Corp.") -> 0 | C31: 206.63 | D31: 286 | E31: 0.72248252 | F31: 0.027101583 | G31: 0.067172269 | H31: 0 | I31: 0.089732113 | J31: A | K31: B | L31: 26 | M31: 5.6 | N31: 0.21538462 | O31: 11 | P31: 0.039900572 | Q31: 0.051604521 | R31: Stock | S31: Consumer Cyclical | T31: 12962.066 | U31: 44399 | V31: Eli Inkrot
A32: QCOM | B32: =HYPERLINK("https://www.suredividend.com/sure-analysis-QCOM/","Qualcomm, Inc.") -> 0 | C32: 130.12 | D32: 130 | E32: 1.0009231 | F32: 0.020903781 | G32: -0.00018451321 | H32: 0.07 | I32: 0.088744172 | J32: A | K32: B | L32: 8.26 | M32: 2.72 | N32: 0.32929782 | O32: 19 | P32: 0.069722706 | Q32: 0.028214295 | R32: Stock | S32: Technology | T32: 146865.6 | U32: 44407 | V32: Nathan Parsh
A33: BRC | B33: =HYPERLINK("https://www.suredividend.com/sure-analysis-BRC/","Brady Corp.") -> 0 | C33: 50.69 | D33: 57 | E33: 0.88929825 | F33: 0.017754981 | G33: 0.023741981 | H33: 0.05 | I33: 0.088659996 | J33: A | K33: B | L33: 3 | M33: 0.9 | N33: 0.3 | O33: 36 | P33: 0.019244876 | Q33: 0.22838889 | R33: Stock | S33: Industrials | T33: 2464.2643 | U33: 44461 | V33: Nathan Parsh
A34: LOW | B34: =HYPERLINK("https://www.suredividend.com/sure-analysis-LOW/","Lowe`s Cos., Inc.") -> 0 | C34: 221.74 | D34: 226.94 | E34: 0.97708645 | F34: 0.014431316 | G34: 0.0046467912 | H34: 0.07 | I34: 0.087958007 | J34: A | K34: B | L34: 11.33 | M34: 3.2 | N34: 0.28243601 | O34: 59 | P34: 0.070087455 | Q34: 0.24637379 | R34: Stock | S34: Consumer Cyclical | T34: 151753.55 | U34: 44434 | V34: Quinn Mohammed
A35: FMCB | B35: =HYPERLINK("https://www.suredividend.com/sure-analysis-FMCB/","Farmers & Merchants Bancorp") -> 0 | C35: 903 | D35: 1008 | E35: 0.89583333 | F35: 0.016943522 | G35: 0.022243967 | H35: 0.05 | I35: 0.087777308 | J35: A | K35: B | L35: 84 | M35: 15.3 | N35: 0.18214286 | O35: 56 | P35: 0.050031101 | Q35: 0.2879946 | R35: Stock | S35: Financial Services | T35: 721.58996 | U35: 44424 | V35: Aristofanis Papadatos
A36: JNJ | B36: =HYPERLINK("https://www.suredividend.com/sure-analysis-JNJ/","Johnson & Johnson") -> 0 | C36: 160.12 | D36: 162 | E36: 0.98839506 | F36: 0.02648014 | G36: 0.0023372874 | H36: 0.06 | I36: 0.086214957 | J36: A | K36: A | L36: 9.55 | M36: 4.24 | N36: 0.44397906 | O36: 59 | P36: 0.059847648 | Q36: 0.11701899 | R36: Stock | S36: Healthcare | T36: 424619.36 | U36: 44399 | V36: Nathan Parsh
A37: RNR | B37: =HYPERLINK("https://www.suredividend.com/sure-analysis-RNR/","RenaissanceRe Holdings Ltd") -> 0 | C37: 146.11 | D37: 167 | E37: 0.87491018 | F37: 0.0098555883 | G37: 0.027087174 | H37: 0.05 | I37: 0.086211528 | J37: A | K37: C | L37: 11 | M37: 1.44 | N37: 0.13090909 | O37: 26 | P37: 0.026351854 | Q37: -0.13303962 | R37: Stock | S37: Financial Services | T37: 6967.8291 | U37: 44403 | V37: Eli Inkrot
A38: PPG | B38: =HYPERLINK("https://www.suredividend.com/sure-analysis-PPG/","PPG Industries, Inc.") -> 0 | C38: 157.4 | D38: 151 | E38: 1.0423841 | F38: 0.014993647 | G38: -0.0082677326 | H38: 0.08 | I38: 0.085139564 | J38: A | K38: B | L38: 7.97 | M38: 2.36 | N38: 0.29611041 | O38: 50 | P38: 0.080148568 | Q38: 0.18573333 | R38: Stock | S38: Basic Materials | T38: 38048.26 | U38: 44397 | V38: Nathan Parsh
A39: LEG | B39: =HYPERLINK("https://www.suredividend.com/sure-analysis-LEG/","Leggett & Platt, Inc.") -> 0 | C39: 46.18 | D39: 47 | E39: 0.98255319 | F39: 0.036379385 | G39: 0.0035263626 | H39: 0.05 | I39: 0.084995085 | J39: A | K39: A | L39: 2.96 | M39: 1.68 | N39: 0.56756757 | O39: 48 | P39: 0.039594988 | Q39: 0.040318011 | R39: Stock | S39: Consumer Cyclical | T39: 6094.4263 | U39: 44417 | V39: Jonathan Weber
A40: BBY | B40: =HYPERLINK("https://www.suredividend.com/sure-analysis-BBY/","Best Buy Co. Inc.") -> 0 | C40: 115.61 | D40: 116 | E40: 0.99663793 | F40: 0.024219358 | G40: 0.00067377357 | H40: 0.06 | I40: 0.083906562 | J40: A | K40: B | L40: 9.69 | M40: 2.8 | N40: 0.28895769 | O40: 18 | P40: 0.079783677 | Q40: -0.024540983 | R40: Stock | S40: Consumer Cyclical | T40: 27951.374 | U40: 44452 | V40: Prakash Kolli
...

Sheet Portfolio Tracker
A1: Ticker | B1: Shares | C1: Sector | D1: Percent of Portfolio | E1: Price | F1: Market Value | G1: Dividend Yield | H1: Annual Dividends | I1: Payment Month Group | J1: Dividend Risk Score | K1: Valuation Return | L1: Growth Return | M1: Expected Total Return | O1: Dividend Income by Month
C2: =IFERROR(VLOOKUP(A2,'Detailed Dashboard'!$A:$AD,19,FALSE),"-") -> 0 | D2: =IFERROR(F2/SUM($F$2:$F$51),"-") -> 0 | E2: =IFERROR(VLOOKUP(A2,'Detailed Dashboard'!$A:$AD,3,FALSE),"-") -> 0 | F2: =IFERROR(E2*B2,"-") -> 0 | G2: =IFERROR(VLOOKUP(A2,'Detailed Dashboard'!$A:$AD,6,FALSE),"-") -> 0 | H2: =IFERROR(E2*B2*G2,"-") -> 0 | I2: =IFERROR(IF(VLOOKUP(A2,'Payment Dates'!$A:$B,2,FALSE)="monthly",4, MOD(MONTH(VLOOKUP(A2,'Payment Dates'!$A:$B,2,FALSE)),3)), "-") -> 0 | J2: =IFERROR(VLOOKUP(A2,'Detailed Dashboard'!$A:$AD,10,FALSE),"-") -> 0 | K2: =IFERROR(VLOOKUP(A2,'Detailed Dashboard'!$A:$AD,7,FALSE),"-") -> 0 | L2: =IFERROR(VLOOKUP(A2,'Detailed Dashboard'!$A:$AD,8,FALSE),"-") -> 0 | M2: =IFERROR(VLOOKUP(A2,'Detailed Dashboard'!$A:$AD,9,FALSE),"-") -> 0 | O2: January | P2: =SUMIF($I$2:$I$300,"=1",$H$2:$H$300)/4 + SUMIF($I$2:$I$300,"=4",$H$2:$H$300)/12 -> 0
C3: =IFERROR(VLOOKUP(A3,'Detailed Dashboard'!$A:$AD,19,FALSE),"-") -> 0 | D3: =IFERROR(F3/SUM($F$2:$F$51),"-") -> 0 | E3: =IFERROR(VLOOKUP(A3,'Detailed Dashboard'!$A:$AD,3,FALSE),"-") -> 0 | F3: =IFERROR(E3*B3,"-") -> 0 | G3: =IFERROR(VLOOKUP(A3,'Detailed Dashboard'!$A:$AD,6,FALSE),"-") -> 0 | H3: =IFERROR(E3*B3*G3,"-") -> 0 | I3: =IFERROR(IF(VLOOKUP(A3,'Payment Dates'!$A:$B,2,FALSE)="monthly",4, MOD(MONTH(VLOOKUP(A3,'Payment Dates'!$A:$B,2,FALSE)),3)), "-") -> 0 | J3: =IFERROR(VLOOKUP(A3,'Detailed Dashboard'!$A:$AD,10,FALSE),"-") -> 0 | K3: =IFERROR(VLOOKUP(A3,'Detailed Dashboard'!$A:$AD,7,FALSE),"-") -> 0 | L3: =IFERROR(VLOOKUP(A3,'Detailed Dashboard'!$A:$AD,8,FALSE),"-") -> 0 | M3: =IFERROR(VLOOKUP(A3,'Detailed Dashboard'!$A:$AD,9,FALSE),"-") -> 0 | O3: February | P3: =SUMIF($I$2:$I$300,"=2",$H$2:$H$300)/4 + SUMIF($I$2:$I$300,"=4",$H$2:$H$300)/12 -> 0
C4: =IFERROR(VLOOKUP(A4,'Detailed Dashboard'!$A:$AD,19,FALSE),"-") -> 0 | D4: =IFERROR(F4/SUM($F$2:$F$51),"-") -> 0 | E4: =IFERROR(VLOOKUP(A4,'Detailed Dashboard'!$A:$AD,3,FALSE),"-") -> 0 | F4: =IFERROR(E4*B4,"-") -> 0 | G4: =IFERROR(VLOOKUP(A4,'Detailed Dashboard'!$A:$AD,6,FALSE),"-") -> 0 | H4: =IFERROR(E4*B4*G4,"-") -> 0 | I4: =IFERROR(IF(VLOOKUP(A4,'Payment Dates'!$A:$B,2,FALSE)="monthly",4, MOD(MONTH(VLOOKUP(A4,'Payment Dates'!$A:$B,2,FALSE)),3)), "-") -> 0 | J4: =IFERROR(VLOOKUP(A4,'Detailed Dashboard'!$A:$AD,10,FALSE),"-") -> 0 | K4: =IFERROR(VLOOKUP(A4,'Detailed Dashboard'!$A:$AD,7,FALSE),"-") -> 0 | L4: =IFERROR(VLOOKUP(A4,'Detailed Dashboard'!$A:$AD,8,FALSE),"-") -> 0 | M4: =IFERROR(VLOOKUP(A4,'Detailed Dashboard'!$A:$AD,9,FALSE),"-") -> 0 | O4: March | P4: =SUMIF($I$2:$I$300,"=0",$H$2:$H$300)/4 + SUMIF($I$2:$I$300,"=4",$H$2:$H$300)/12 -> 0
C5: =IFERROR(VLOOKUP(A5,'Detailed Dashboard'!$A:$AD,19,FALSE),"-") -> 0 | D5: =IFERROR(F5/SUM($F$2:$F$51),"-") -> 0 | E5: =IFERROR(VLOOKUP(A5,'Detailed Dashboard'!$A:$AD,3,FALSE),"-") -> 0 | F5: =IFERROR(E5*B5,"-") -> 0 | G5: =IFERROR(VLOOKUP(A5,'Detailed Dashboard'!$A:$AD,6,FALSE),"-") -> 0 | H5: =IFERROR(E5*B5*G5,"-") -> 0 | I5: =IFERROR(IF(VLOOKUP(A5,'Payment Dates'!$A:$B,2,FALSE)="monthly",4, MOD(MONTH(VLOOKUP(A5,'Payment Dates'!$A:$B,2,FALSE)),3)), "-") -> 0 | J5: =IFERROR(VLOOKUP(A5,'Detailed Dashboard'!$A:$AD,10,FALSE),"-") -> 0 | K5: =IFERROR(VLOOKUP(A5,'Detailed Dashboard'!$A:$AD,7,FALSE),"-") -> 0 | L5: =IFERROR(VLOOKUP(A5,'Detailed Dashboard'!$A:$AD,8,FALSE),"-") -> 0 | M5: =IFERROR(VLOOKUP(A5,'Detailed Dashboard'!$A:$AD,9,FALSE),"-") -> 0 | O5: April | P5: =SUMIF($I$2:$I$300,"=1",$H$2:$H$300)/4 + SUMIF($I$2:$I$300,"=4",$H$2:$H$300)/12 -> 0
C6: =IFERROR(VLOOKUP(A6,'Detailed Dashboard'!$A:$AD,19,FALSE),"-") -> 0 | D6: =IFERROR(F6/SUM($F$2:$F$51),"-") -> 0 | E6: =IFERROR(VLOOKUP(A6,'Detailed Dashboard'!$A:$AD,3,FALSE),"-") -> 0 | F6: =IFERROR(E6*B6,"-") -> 0 | G6: =IFERROR(VLOOKUP(A6,'Detailed Dashboard'!$A:$AD,6,FALSE),"-") -> 0 | H6: =IFERROR(E6*B6*G6,"-") -> 0 | I6: =IFERROR(IF(VLOOKUP(A6,'Payment Dates'!$A:$B,2,FALSE)="monthly",4, MOD(MONTH(VLOOKUP(A6,'Payment Dates'!$A:$B,2,FALSE)),3)), "-") -> 0 | J6: =IFERROR(VLOOKUP(A6,'Detailed Dashboard'!$A:$AD,10,FALSE),"-") -> 0 | K6: =IFERROR(VLOOKUP(A6,'Detailed Dashboard'!$A:$AD,7,FALSE),"-") -> 0 | L6: =IFERROR(VLOOKUP(A6,'Detailed Dashboard'!$A:$AD,8,FALSE),"-") -> 0 | M6: =IFERROR(VLOOKUP(A6,'Detailed Dashboard'!$A:$AD,9,FALSE),"-") -> 0 | O6: May | P6: =SUMIF($I$2:$I$300,"=2",$H$2:$H$300)/4 + SUMIF($I$2:$I$300,"=4",$H$2:$H$300)/12 -> 0
C7: =IFERROR(VLOOKUP(A7,'Detailed Dashboard'!$A:$AD,19,FALSE),"-") -> 0 | D7: =IFERROR(F7/SUM($F$2:$F$51),"-") -> 0 | E7: =IFERROR(VLOOKUP(A7,'Detailed Dashboard'!$A:$AD,3,FALSE),"-") -> 0 | F7: =IFERROR(E7*B7,"-") -> 0 | G7: =IFERROR(VLOOKUP(A7,'Detailed Dashboard'!$A:$AD,6,FALSE),"-") -> 0 | H7: =IFERROR(E7*B7*G7,"-") -> 0 | I7: =IFERROR(IF(VLOOKUP(A7,'Payment Dates'!$A:$B,2,FALSE)="monthly",4, MOD(MONTH(VLOOKUP(A7,'Payment Dates'!$A:$B,2,FALSE)),3)), "-") -> 0 | J7: =IFERROR(VLOOKUP(A7,'Detailed Dashboard'!$A:$AD,10,FALSE),"-") -> 0 | K7: =IFERROR(VLOOKUP(A7,'Detailed Dashboard'!$A:$AD,7,FALSE),"-") -> 0 | L7: =IFERROR(VLOOKUP(A7,'Detailed Dashboard'!$A:$AD,8,FALSE),"-") -> 0 | M7: =IFERROR(VLOOKUP(A7,'Detailed Dashboard'!$A:$AD,9,FALSE),"-") -> 0 | O7: June | P7: =SUMIF($I$2:$I$300,"=0",$H$2:$H$300)/4 + SUMIF($I$2:$I$300,"=4",$H$2:$H$300)/12 -> 0
C8: =IFERROR(VLOOKUP(A8,'Detailed Dashboard'!$A:$AD,19,FALSE),"-") -> 0 | D8: =IFERROR(F8/SUM($F$2:$F$51),"-") -> 0 | E8: =IFERROR(VLOOKUP(A8,'Detailed Dashboard'!$A:$AD,3,FALSE),"-") -> 0 | F8: =IFERROR(E8*B8,"-") -> 0 | G8: =IFERROR(VLOOKUP(A8,'Detailed Dashboard'!$A:$AD,6,FALSE),"-") -> 0 | H8: =IFERROR(E8*B8*G8,"-") -> 0 | I8: =IFERROR(IF(VLOOKUP(A8,'Payment Dates'!$A:$B,2,FALSE)="monthly",4, MOD(MONTH(VLOOKUP(A8,'Payment Dates'!$A:$B,2,FALSE)),3)), "-") -> 0 | J8: =IFERROR(VLOOKUP(A8,'Detailed Dashboard'!$A:$AD,10,FALSE),"-") -> 0 | K8: =IFERROR(VLOOKUP(A8,'Detailed Dashboard'!$A:$AD,7,FALSE),"-") -> 0 | L8: =IFERROR(VLOOKUP(A8,'Detailed Dashboard'!$A:$AD,8,FALSE),"-") -> 0 | M8: =IFERROR(VLOOKUP(A8,'Detailed Dashboard'!$A:$AD,9,FALSE),"-") -> 0 | O8: July | P8: =SUMIF($I$2:$I$300,"=1",$H$2:$H$300)/4 + SUMIF($I$2:$I$300,"=4",$H$2:$H$300)/12 -> 0
C9: =IFERROR(VLOOKUP(A9,'Detailed Dashboard'!$A:$AD,19,FALSE),"-") -> 0 | D9: =IFERROR(F9/SUM($F$2:$F$51),"-") -> 0 | E9: =IFERROR(VLOOKUP(A9,'Detailed Dashboard'!$A:$AD,3,FALSE),"-") -> 0 | F9: =IFERROR(E9*B9,"-") -> 0 | G9: =IFERROR(VLOOKUP(A9,'Detailed Dashboard'!$A:$AD,6,FALSE),"-") -> 0 | H9: =IFERROR(E9*B9*G9,"-") -> 0 | I9: =IFERROR(IF(VLOOKUP(A9,'Payment Dates'!$A:$B,2,FALSE)="monthly",4, MOD(MONTH(VLOOKUP(A9,'Payment Dates'!$A:$B,2,FALSE)),3)), "-") -> 0 | J9: =IFERROR(VLOOKUP(A9,'Detailed Dashboard'!$A:$AD,10,FALSE),"-") -> 0 | K9: =IFERROR(VLOOKUP(A9,'Detailed Dashboard'!$A:$AD,7,FALSE),"-") -> 0 | L9: =IFERROR(VLOOKUP(A9,'Detailed Dashboard'!$A:$AD,8,FALSE),"-") -> 0 | M9: =IFERROR(VLOOKUP(A9,'Detailed Dashboard'!$A:$AD,9,FALSE),"-") -> 0 | O9: August | P9: =SUMIF($I$2:$I$300,"=2",$H$2:$H$300)/4 + SUMIF($I$2:$I$300,"=4",$H$2:$H$300)/12 -> 0
C10: =IFERROR(VLOOKUP(A10,'Detailed Dashboard'!$A:$AD,19,FALSE),"-") -> 0 | D10: =IFERROR(F10/SUM($F$2:$F$51),"-") -> 0 | E10: =IFERROR(VLOOKUP(A10,'Detailed Dashboard'!$A:$AD,3,FALSE),"-") -> 0 | F10: =IFERROR(E10*B10,"-") -> 0 | G10: =IFERROR(VLOOKUP(A10,'Detailed Dashboard'!$A:$AD,6,FALSE),"-") -> 0 | H10: =IFERROR(E10*B10*G10,"-") -> 0 | I10: =IFERROR(IF(VLOOKUP(A10,'Payment Dates'!$A:$B,2,FALSE)="monthly",4, MOD(MONTH(VLOOKUP(A10,'Payment Dates'!$A:$B,2,FALSE)),3)), "-") -> 0 | J10: =IFERROR(VLOOKUP(A10,'Detailed Dashboard'!$A:$AD,10,FALSE),"-") -> 0 | K10: =IFERROR(VLOOKUP(A10,'Detailed Dashboard'!$A:$AD,7,FALSE),"-") -> 0 | L10: =IFERROR(VLOOKUP(A10,'Detailed Dashboard'!$A:$AD,8,FALSE),"-") -> 0 | M10: =IFERROR(VLOOKUP(A10,'Detailed Dashboard'!$A:$AD,9,FALSE),"-") -> 0 | O10: September | P10: =SUMIF($I$2:$I$300,"=0",$H$2:$H$300)/4 + SUMIF($I$2:$I$300,"=4",$H$2:$H$300)/12 -> 0
C11: =IFERROR(VLOOKUP(A11,'Detailed Dashboard'!$A:$AD,19,FALSE),"-") -> 0 | D11: =IFERROR(F11/SUM($F$2:$F$51),"-") -> 0 | E11: =IFERROR(VLOOKUP(A11,'Detailed Dashboard'!$A:$AD,3,FALSE),"-") -> 0 | F11: =IFERROR(E11*B11,"-") -> 0 | G11: =IFERROR(VLOOKUP(A11,'Detailed Dashboard'!$A:$AD,6,FALSE),"-") -> 0 | H11: =IFERROR(E11*B11*G11,"-") -> 0 | I11: =IFERROR(IF(VLOOKUP(A11,'Payment Dates'!$A:$B,2,FALSE)="monthly",4, MOD(MONTH(VLOOKUP(A11,'Payment Dates'!$A:$B,2,FALSE)),3)), "-") -> 0 | J11: =IFERROR(VLOOKUP(A11,'Detailed Dashboard'!$A:$AD,10,FALSE),"-") -> 0 | K11: =IFERROR(VLOOKUP(A11,'Detailed Dashboard'!$A:$AD,7,FALSE),"-") -> 0 | L11: =IFERROR(VLOOKUP(A11,'Detailed Dashboard'!$A:$AD,8,FALSE),"-") -> 0 | M11: =IFERROR(VLOOKUP(A11,'Detailed Dashboard'!$A:$AD,9,FALSE),"-") -> 0 | O11: October | P11: =SUMIF($I$2:$I$300,"=1",$H$2:$H$300)/4 + SUMIF($I$2:$I$300,"=4",$H$2:$H$300)/12 -> 0
C12: =IFERROR(VLOOKUP(A12,'Detailed Dashboard'!$A:$AD,19,FALSE),"-") -> 0 | D12: =IFERROR(F12/SUM($F$2:$F$51),"-") -> 0 | E12: =IFERROR(VLOOKUP(A12,'Detailed Dashboard'!$A:$AD,3,FALSE),"-") -> 0 | F12: =IFERROR(E12*B12,"-") -> 0 | G12: =IFERROR(VLOOKUP(A12,'Detailed Dashboard'!$A:$AD,6,FALSE),"-") -> 0 | H12: =IFERROR(E12*B12*G12,"-") -> 0 | I12: =IFERROR(IF(VLOOKUP(A12,'Payment Dates'!$A:$B,2,FALSE)="monthly",4, MOD(MONTH(VLOOKUP(A12,'Payment Dates'!$A:$B,2,FALSE)),3)), "-") -> 0 | J12: =IFERROR(VLOOKUP(A12,'Detailed Dashboard'!$A:$AD,10,FALSE),"-") -> 0 | K12: =IFERROR(VLOOKUP(A12,'Detailed Dashboard'!$A:$AD,7,FALSE),"-") -> 0 | L12: =IFERROR(VLOOKUP(A12,'Detailed Dashboard'!$A:$AD,8,FALSE),"-") -> 0 | M12: =IFERROR(VLOOKUP(A12,'Detailed Dashboard'!$A:$AD,9,FALSE),"-") -> 0 | O12: November | P12: =SUMIF($I$2:$I$300,"=2",$H$2:$H$300)/4 + SUMIF($I$2:$I$300,"=4",$H$2:$H$300)/12 -> 0
C13: =IFERROR(VLOOKUP(A13,'Detailed Dashboard'!$A:$AD,19,FALSE),"-") -> 0 | D13: =IFERROR(F13/SUM($F$2:$F$51),"-") -> 0 | E13: =IFERROR(VLOOKUP(A13,'Detailed Dashboard'!$A:$AD,3,FALSE),"-") -> 0 | F13: =IFERROR(E13*B13,"-") -> 0 | G13: =IFERROR(VLOOKUP(A13,'Detailed Dashboard'!$A:$AD,6,FALSE),"-") -> 0 | H13: =IFERROR(E13*B13*G13,"-") -> 0 | I13: =IFERROR(IF(VLOOKUP(A13,'Payment Dates'!$A:$B,2,FALSE)="monthly",4, MOD(MONTH(VLOOKUP(A13,'Payment Dates'!$A:$B,2,FALSE)),3)), "-") -> 0 | J13: =IFERROR(VLOOKUP(A13,'Detailed Dashboard'!$A:$AD,10,FALSE),"-") -> 0 | K13: =IFERROR(VLOOKUP(A13,'Detailed Dashboard'!$A:$AD,7,FALSE),"-") -> 0 | L13: =IFERROR(VLOOKUP(A13,'Detailed Dashboard'!$A:$AD,8,FALSE),"-") -> 0 | M13: =IFERROR(VLOOKUP(A13,'Detailed Dashboard'!$A:$AD,9,FALSE),"-") -> 0 | O13: December | P13: =SUMIF($I$2:$I$300,"=0",$H$2:$H$300)/4 + SUMIF($I$2:$I$300,"=4",$H$2:$H$300)/12 -> 0
C14: =IFERROR(VLOOKUP(A14,'Detailed Dashboard'!$A:$AD,19,FALSE),"-") -> 0 | D14: =IFERROR(F14/SUM($F$2:$F$51),"-") -> 0 | E14: =IFERROR(VLOOKUP(A14,'Detailed Dashboard'!$A:$AD,3,FALSE),"-") -> 0 | F14: =IFERROR(E14*B14,"-") -> 0 | G14: =IFERROR(VLOOKUP(A14,'Detailed Dashboard'!$A:$AD,6,FALSE),"-") -> 0 | H14: =IFERROR(E14*B14*G14,"-") -> 0 | I14: =IFERROR(IF(VLOOKUP(A14,'Payment Dates'!$A:$B,2,FALSE)="monthly",4, MOD(MONTH(VLOOKUP(A14,'Payment Dates'!$A:$B,2,FALSE)),3)), "-") -> 0 | J14: =IFERROR(VLOOKUP(A14,'Detailed Dashboard'!$A:$AD,10,FALSE),"-") -> 0 | K14: =IFERROR(VLOOKUP(A14,'Detailed Dashboard'!$A:$AD,7,FALSE),"-") -> 0 | L14: =IFERROR(VLOOKUP(A14,'Detailed Dashboard'!$A:$AD,8,FALSE),"-") -> 0 | M14: =IFERROR(VLOOKUP(A14,'Detailed Dashboard'!$A:$AD,9,FALSE),"-") -> 0
C15: =IFERROR(VLOOKUP(A15,'Detailed Dashboard'!$A:$AD,19,FALSE),"-") -> 0 | D15: =IFERROR(F15/SUM($F$2:$F$51),"-") -> 0 | E15: =IFERROR(VLOOKUP(A15,'Detailed Dashboard'!$A:$AD,3,FALSE),"-") -> 0 | F15: =IFERROR(E15*B15,"-") -> 0 | G15: =IFERROR(VLOOKUP(A15,'Detailed Dashboard'!$A:$AD,6,FALSE),"-") -> 0 | H15: =IFERROR(E15*B15*G15,"-") -> 0 | I15: =IFERROR(IF(VLOOKUP(A15,'Payment Dates'!$A:$B,2,FALSE)="monthly",4, MOD(MONTH(VLOOKUP(A15,'Payment Dates'!$A:$B,2,FALSE)),3)), "-") -> 0 | J15: =IFERROR(VLOOKUP(A15,'Detailed Dashboard'!$A:$AD,10,FALSE),"-") -> 0 | K15: =IFERROR(VLOOKUP(A15,'Detailed Dashboard'!$A:$AD,7,FALSE),"-") -> 0 | L15: =IFERROR(VLOOKUP(A15,'Detailed Dashboard'!$A:$AD,8,FALSE),"-") -> 0 | M15: =IFERROR(VLOOKUP(A15,'Detailed Dashboard'!$A:$AD,9,FALSE),"-") -> 0 | O15: Dividend Income by Sector
C16: =IFERROR(VLOOKUP(A16,'Detailed Dashboard'!$A:$AD,19,FALSE),"-") -> 0 | D16: =IFERROR(F16/SUM($F$2:$F$51),"-") -> 0 | E16: =IFERROR(VLOOKUP(A16,'Detailed Dashboard'!$A:$AD,3,FALSE),"-") -> 0 | F16: =IFERROR(E16*B16,"-") -> 0 | G16: =IFERROR(VLOOKUP(A16,'Detailed Dashboard'!$A:$AD,6,FALSE),"-") -> 0 | H16: =IFERROR(E16*B16*G16,"-") -> 0 | I16: =IFERROR(IF(VLOOKUP(A16,'Payment Dates'!$A:$B,2,FALSE)="monthly",4, MOD(MONTH(VLOOKUP(A16,'Payment Dates'!$A:$B,2,FALSE)),3)), "-") -> 0 | J16: =IFERROR(VLOOKUP(A16,'Detailed Dashboard'!$A:$AD,10,FALSE),"-") -> 0 | K16: =IFERROR(VLOOKUP(A16,'Detailed Dashboard'!$A:$AD,7,FALSE),"-") -> 0 | L16: =IFERROR(VLOOKUP(A16,'Detailed Dashboard'!$A:$AD,8,FALSE),"-") -> 0 | M16: =IFERROR(VLOOKUP(A16,'Detailed Dashboard'!$A:$AD,9,FALSE),"-") -> 0 | O16: Basic Materials | P16: =SUMIF($C$2:$C$300,"=Basic Materials",$H$2:$H$300) -> 0
C17: =IFERROR(VLOOKUP(A17,'Detailed Dashboard'!$A:$AD,19,FALSE),"-") -> 0 | D17: =IFERROR(F17/SUM($F$2:$F$51),"-") -> 0 | E17: =IFERROR(VLOOKUP(A17,'Detailed Dashboard'!$A:$AD,3,FALSE),"-") -> 0 | F17: =IFERROR(E17*B17,"-") -> 0 | G17: =IFERROR(VLOOKUP(A17,'Detailed Dashboard'!$A:$AD,6,FALSE),"-") -> 0 | H17: =IFERROR(E17*B17*G17,"-") -> 0 | I17: =IFERROR(IF(VLOOKUP(A17,'Payment Dates'!$A:$B,2,FALSE)="monthly",4, MOD(MONTH(VLOOKUP(A17,'Payment Dates'!$A:$B,2,FALSE)),3)), "-") -> 0 | J17: =IFERROR(VLOOKUP(A17,'Detailed Dashboard'!$A:$AD,10,FALSE),"-") -> 0 | K17: =IFERROR(VLOOKUP(A17,'Detailed Dashboard'!$A:$AD,7,FALSE),"-") -> 0 | L17: =IFERROR(VLOOKUP(A17,'Detailed Dashboard'!$A:$AD,8,FALSE),"-") -> 0 | M17: =IFERROR(VLOOKUP(A17,'Detailed Dashboard'!$A:$AD,9,FALSE),"-") -> 0 | O17: Communication Services | P17: =SUMIF($C$2:$C$300,"=Communication Services",$H$2:$H$300) -> 0
C18: =IFERROR(VLOOKUP(A18,'Detailed Dashboard'!$A:$AD,19,FALSE),"-") -> 0 | D18: =IFERROR(F18/SUM($F$2:$F$51),"-") -> 0 | E18: =IFERROR(VLOOKUP(A18,'Detailed Dashboard'!$A:$AD,3,FALSE),"-") -> 0 | F18: =IFERROR(E18*B18,"-") -> 0 | G18: =IFERROR(VLOOKUP(A18,'Detailed Dashboard'!$A:$AD,6,FALSE),"-") -> 0 | H18: =IFERROR(E18*B18*G18,"-") -> 0 | I18: =IFERROR(IF(VLOOKUP(A18,'Payment Dates'!$A:$B,2,FALSE)="monthly",4, MOD(MONTH(VLOOKUP(A18,'Payment Dates'!$A:$B,2,FALSE)),3)), "-") -> 0 | J18: =IFERROR(VLOOKUP(A18,'Detailed Dashboard'!$A:$AD,10,FALSE),"-") -> 0 | K18: =IFERROR(VLOOKUP(A18,'Detailed Dashboard'!$A:$AD,7,FALSE),"-") -> 0 | L18: =IFERROR(VLOOKUP(A18,'Detailed Dashboard'!$A:$AD,8,FALSE),"-") -> 0 | M18: =IFERROR(VLOOKUP(A18,'Detailed Dashboard'!$A:$AD,9,FALSE),"-") -> 0 | O18: Consumer Cyclical | P18: =SUMIF($C$2:$C$300,"=Consumer Cyclical",$H$2:$H$300) -> 0
C19: =IFERROR(VLOOKUP(A19,'Detailed Dashboard'!$A:$AD,19,FALSE),"-") -> 0 | D19: =IFERROR(F19/SUM($F$2:$F$51),"-") -> 0 | E19: =IFERROR(VLOOKUP(A19,'Detailed Dashboard'!$A:$AD,3,FALSE),"-") -> 0 | F19: =IFERROR(E19*B19,"-") -> 0 | G19: =IFERROR(VLOOKUP(A19,'Detailed Dashboard'!$A:$AD,6,FALSE),"-") -> 0 | H19: =IFERROR(E19*B19*G19,"-") -> 0 | I19: =IFERROR(IF(VLOOKUP(A19,'Payment Dates'!$A:$B,2,FALSE)="monthly",4, MOD(MONTH(VLOOKUP(A19,'Payment Dates'!$A:$B,2,FALSE)),3)), "-") -> 0 | J19: =IFERROR(VLOOKUP(A19,'Detailed Dashboard'!$A:$AD,10,FALSE),"-") -> 0 | K19: =IFERROR(VLOOKUP(A19,'Detailed Dashboard'!$A:$AD,7,FALSE),"-") -> 0 | L19: =IFERROR(VLOOKUP(A19,'Detailed Dashboard'!$A:$AD,8,FALSE),"-") -> 0 | M19: =IFERROR(VLOOKUP(A19,'Detailed Dashboard'!$A:$AD,9,FALSE),"-") -> 0 | O19: Consumer Defensive | P19: =SUMIF($C$2:$C$300,"=Consumer Defensive",$H$2:$H$300) -> 0
C20: =IFERROR(VLOOKUP(A20,'Detailed Dashboard'!$A:$AD,19,FALSE),"-") -> 0 | D20: =IFERROR(F20/SUM($F$2:$F$51),"-") -> 0 | E20: =IFERROR(VLOOKUP(A20,'Detailed Dashboard'!$A:$AD,3,FALSE),"-") -> 0 | F20: =IFERROR(E20*B20,"-") -> 0 | G20: =IFERROR(VLOOKUP(A20,'Detailed Dashboard'!$A:$AD,6,FALSE),"-") -> 0 | H20: =IFERROR(E20*B20*G20,"-") -> 0 | I20: =IFERROR(IF(VLOOKUP(A20,'Payment Dates'!$A:$B,2,FALSE)="monthly",4, MOD(MONTH(VLOOKUP(A20,'Payment Dates'!$A:$B,2,FALSE)),3)), "-") -> 0 | J20: =IFERROR(VLOOKUP(A20,'Detailed Dashboard'!$A:$AD,10,FALSE),"-") -> 0 | K20: =IFERROR(VLOOKUP(A20,'Detailed Dashboard'!$A:$AD,7,FALSE),"-") -> 0 | L20: =IFERROR(VLOOKUP(A20,'Detailed Dashboard'!$A:$AD,8,FALSE),"-") -> 0 | M20: =IFERROR(VLOOKUP(A20,'Detailed Dashboard'!$A:$AD,9,FALSE),"-") -> 0 | O20: Energy | P20: =SUMIF($C$2:$C$300,"=Energy",$H$2:$H$300) -> 0
C21: =IFERROR(VLOOKUP(A21,'Detailed Dashboard'!$A:$AD,19,FALSE),"-") -> 0 | D21: =IFERROR(F21/SUM($F$2:$F$51),"-") -> 0 | E21: =IFERROR(VLOOKUP(A21,'Detailed Dashboard'!$A:$AD,3,FALSE),"-") -> 0 | F21: =IFERROR(E21*B21,"-") -> 0 | G21: =IFERROR(VLOOKUP(A21,'Detailed Dashboard'!$A:$AD,6,FALSE),"-") -> 0 | H21: =IFERROR(E21*B21*G21,"-") -> 0 | I21: =IFERROR(IF(VLOOKUP(A21,'Payment Dates'!$A:$B,2,FALSE)="monthly",4, MOD(MONTH(VLOOKUP(A21,'Payment Dates'!$A:$B,2,FALSE)),3)), "-") -> 0 | J21: =IFERROR(VLOOKUP(A21,'Detailed Dashboard'!$A:$AD,10,FALSE),"-") -> 0 | K21: =IFERROR(VLOOKUP(A21,'Detailed Dashboard'!$A:$AD,7,FALSE),"-") -> 0 | L21: =IFERROR(VLOOKUP(A21,'Detailed Dashboard'!$A:$AD,8,FALSE),"-") -> 0 | M21: =IFERROR(VLOOKUP(A21,'Detailed Dashboard'!$A:$AD,9,FALSE),"-") -> 0 | O21: Financial Services | P21: =SUMIF($C$2:$C$300,"=Financial Services",$H$2:$H$300) -> 0
C22: =IFERROR(VLOOKUP(A22,'Detailed Dashboard'!$A:$AD,19,FALSE),"-") -> 0 | D22: =IFERROR(F22/SUM($F$2:$F$51),"-") -> 0 | E22: =IFERROR(VLOOKUP(A22,'Detailed Dashboard'!$A:$AD,3,FALSE),"-") -> 0 | F22: =IFERROR(E22*B22,"-") -> 0 | G22: =IFERROR(VLOOKUP(A22,'Detailed Dashboard'!$A:$AD,6,FALSE),"-") -> 0 | H22: =IFERROR(E22*B22*G22,"-") -> 0 | I22: =IFERROR(IF(VLOOKUP(A22,'Payment Dates'!$A:$B,2,FALSE)="monthly",4, MOD(MONTH(VLOOKUP(A22,'Payment Dates'!$A:$B,2,FALSE)),3)), "-") -> 0 | J22: =IFERROR(VLOOKUP(A22,'Detailed Dashboard'!$A:$AD,10,FALSE),"-") -> 0 | K22: =IFERROR(VLOOKUP(A22,'Detailed Dashboard'!$A:$AD,7,FALSE),"-") -> 0 | L22: =IFERROR(VLOOKUP(A22,'Detailed Dashboard'!$A:$AD,8,FALSE),"-") -> 0 | M22: =IFERROR(VLOOKUP(A22,'Detailed Dashboard'!$A:$AD,9,FALSE),"-") -> 0 | O22: Healthcare | P22: =SUMIF($C$2:$C$300,"=Healthcare",$H$2:$H$300) -> 0
C23: =IFERROR(VLOOKUP(A23,'Detailed Dashboard'!$A:$AD,19,FALSE),"-") -> 0 | D23: =IFERROR(F23/SUM($F$2:$F$51),"-") -> 0 | E23: =IFERROR(VLOOKUP(A23,'Detailed Dashboard'!$A:$AD,3,FALSE),"-") -> 0 | F23: =IFERROR(E23*B23,"-") -> 0 | G23: =IFERROR(VLOOKUP(A23,'Detailed Dashboard'!$A:$AD,6,FALSE),"-") -> 0 | H23: =IFERROR(E23*B23*G23,"-") -> 0 | I23: =IFERROR(IF(VLOOKUP(A23,'Payment Dates'!$A:$B,2,FALSE)="monthly",4, MOD(MONTH(VLOOKUP(A23,'Payment Dates'!$A:$B,2,FALSE)),3)), "-") -> 0 | J23: =IFERROR(VLOOKUP(A23,'Detailed Dashboard'!$A:$AD,10,FALSE),"-") -> 0 | K23: =IFERROR(VLOOKUP(A23,'Detailed Dashboard'!$A:$AD,7,FALSE),"-") -> 0 | L23: =IFERROR(VLOOKUP(A23,'Detailed Dashboard'!$A:$AD,8,FALSE),"-") -> 0 | M23: =IFERROR(VLOOKUP(A23,'Detailed Dashboard'!$A:$AD,9,FALSE),"-") -> 0 | O23: Industrials | P23: =SUMIF($C$2:$C$300,"=Industrials",$H$2:$H$300) -> 0
C24: =IFERROR(VLOOKUP(A24,'Detailed Dashboard'!$A:$AD,19,FALSE),"-") -> 0 | D24: =IFERROR(F24/SUM($F$2:$F$51),"-") -> 0 | E24: =IFERROR(VLOOKUP(A24,'Detailed Dashboard'!$A:$AD,3,FALSE),"-") -> 0 | F24: =IFERROR(E24*B24,"-") -> 0 | G24: =IFERROR(VLOOKUP(A24,'Detailed Dashboard'!$A:$AD,6,FALSE),"-") -> 0 | H24: =IFERROR(E24*B24*G24,"-") -> 0 | I24: =IFERROR(IF(VLOOKUP(A24,'Payment Dates'!$A:$B,2,FALSE)="monthly",4, MOD(MONTH(VLOOKUP(A24,'Payment Dates'!$A:$B,2,FALSE)),3)), "-") -> 0 | J24: =IFERROR(VLOOKUP(A24,'Detailed Dashboard'!$A:$AD,10,FALSE),"-") -> 0 | K24: =IFERROR(VLOOKUP(A24,'Detailed Dashboard'!$A:$AD,7,FALSE),"-") -> 0 | L24: =IFERROR(VLOOKUP(A24,'Detailed Dashboard'!$A:$AD,8,FALSE),"-") -> 0 | M24: =IFERROR(VLOOKUP(A24,'Detailed Dashboard'!$A:$AD,9,FALSE),"-") -> 0 | O24: Real Estate | P24: =SUMIF($C$2:$C$300,"=Real Estate",$H$2:$H$300) -> 0
C25: =IFERROR(VLOOKUP(A25,'Detailed Dashboard'!$A:$AD,19,FALSE),"-") -> 0 | D25: =IFERROR(F25/SUM($F$2:$F$51),"-") -> 0 | E25: =IFERROR(VLOOKUP(A25,'Detailed Dashboard'!$A:$AD,3,FALSE),"-") -> 0 | F25: =IFERROR(E25*B25,"-") -> 0 | G25: =IFERROR(VLOOKUP(A25,'Detailed Dashboard'!$A:$AD,6,FALSE),"-") -> 0 | H25: =IFERROR(E25*B25*G25,"-") -> 0 | I25: =IFERROR(IF(VLOOKUP(A25,'Payment Dates'!$A:$B,2,FALSE)="monthly",4, MOD(MONTH(VLOOKUP(A25,'Payment Dates'!$A:$B,2,FALSE)),3)), "-") -> 0 | J25: =IFERROR(VLOOKUP(A25,'Detailed Dashboard'!$A:$AD,10,FALSE),"-") -> 0 | K25: =IFERROR(VLOOKUP(A25,'Detailed Dashboard'!$A:$AD,7,FALSE),"-") -> 0 | L25: =IFERROR(VLOOKUP(A25,'Detailed Dashboard'!$A:$AD,8,FALSE),"-") -> 0 | M25: =IFERROR(VLOOKUP(A25,'Detailed Dashboard'!$A:$AD,9,FALSE),"-") -> 0 | O25: Technology | P25: =SUMIF($C$2:$C$300,"=Technology",$H$2:$H$300) -> 0
C26: =IFERROR(VLOOKUP(A26,'Detailed Dashboard'!$A:$AD,19,FALSE),"-") -> 0 | D26: =IFERROR(F26/SUM($F$2:$F$51),"-") -> 0 | E26: =IFERROR(VLOOKUP(A26,'Detailed Dashboard'!$A:$AD,3,FALSE),"-") -> 0 | F26: =IFERROR(E26*B26,"-") -> 0 | G26: =IFERROR(VLOOKUP(A26,'Detailed Dashboard'!$A:$AD,6,FALSE),"-") -> 0 | H26: =IFERROR(E26*B26*G26,"-") -> 0 | I26: =IFERROR(IF(VLOOKUP(A26,'Payment Dates'!$A:$B,2,FALSE)="monthly",4, MOD(MONTH(VLOOKUP(A26,'Payment Dates'!$A:$B,2,FALSE)),3)), "-") -> 0 | J26: =IFERROR(VLOOKUP(A26,'Detailed Dashboard'!$A:$AD,10,FALSE),"-") -> 0 | K26: =IFERROR(VLOOKUP(A26,'Detailed Dashboard'!$A:$AD,7,FALSE),"-") -> 0 | L26: =IFERROR(VLOOKUP(A26,'Detailed Dashboard'!$A:$AD,8,FALSE),"-") -> 0 | M26: =IFERROR(VLOOKUP(A26,'Detailed Dashboard'!$A:$AD,9,FALSE),"-") -> 0 | O26: Utilities | P26: =SUMIF($C$2:$C$300,"=Utilities",$H$2:$H$300) -> 0
C27: =IFERROR(VLOOKUP(A27,'Detailed Dashboard'!$A:$AD,19,FALSE),"-") -> 0 | D27: =IFERROR(F27/SUM($F$2:$F$51),"-") -> 0 | E27: =IFERROR(VLOOKUP(A27,'Detailed Dashboard'!$A:$AD,3,FALSE),"-") -> 0 | F27: =IFERROR(E27*B27,"-") -> 0 | G27: =IFERROR(VLOOKUP(A27,'Detailed Dashboard'!$A:$AD,6,FALSE),"-") -> 0 | H27: =IFERROR(E27*B27*G27,"-") -> 0 | I27: =IFERROR(IF(VLOOKUP(A27,'Payment Dates'!$A:$B,2,FALSE)="monthly",4, MOD(MONTH(VLOOKUP(A27,'Payment Dates'!$A:$B,2,FALSE)),3)), "-") -> 0 | J27: =IFERROR(VLOOKUP(A27,'Detailed Dashboard'!$A:$AD,10,FALSE),"-") -> 0 | K27: =IFERROR(VLOOKUP(A26,'Detailed Dashboard'!$A:$AD,7,FALSE),"-") -> 0 | L27: =IFERROR(VLOOKUP(A26,'Detailed Dashboard'!$A:$AD,8,FALSE),"-") -> 0 | M27: =IFERROR(VLOOKUP(A26,'Detailed Dashboard'!$A:$AD,9,FALSE),"-") -> 0
C28: =IFERROR(VLOOKUP(A28,'Detailed Dashboard'!$A:$AD,19,FALSE),"-") -> 0 | D28: =IFERROR(F28/SUM($F$2:$F$51),"-") -> 0 | E28: =IFERROR(VLOOKUP(A28,'Detailed Dashboard'!$A:$AD,3,FALSE),"-") -> 0 | F28: =IFERROR(E28*B28,"-") -> 0 | G28: =IFERROR(VLOOKUP(A28,'Detailed Dashboard'!$A:$AD,6,FALSE),"-") -> 0 | H28: =IFERROR(E28*B28*G28,"-") -> 0 | I28: =IFERROR(IF(VLOOKUP(A28,'Payment Dates'!$A:$B,2,FALSE)="monthly",4, MOD(MONTH(VLOOKUP(A28,'Payment Dates'!$A:$B,2,FALSE)),3)), "-") -> 0 | J28: =IFERROR(VLOOKUP(A28,'Detailed Dashboard'!$A:$AD,10,FALSE),"-") -> 0 | K28: =IFERROR(VLOOKUP(A26,'Detailed Dashboard'!$A:$AD,7,FALSE),"-") -> 0 | L28: =IFERROR(VLOOKUP(A26,'Detailed Dashboard'!$A:$AD,8,FALSE),"-") -> 0 | M28: =IFERROR(VLOOKUP(A26,'Detailed Dashboard'!$A:$AD,9,FALSE),"-") -> 0
C29: =IFERROR(VLOOKUP(A29,'Detailed Dashboard'!$A:$AD,19,FALSE),"-") -> 0 | D29: =IFERROR(F29/SUM($F$2:$F$51),"-") -> 0 | E29: =IFERROR(VLOOKUP(A29,'Detailed Dashboard'!$A:$AD,3,FALSE),"-") -> 0 | F29: =IFERROR(E29*B29,"-") -> 0 | G29: =IFERROR(VLOOKUP(A29,'Detailed Dashboard'!$A:$AD,6,FALSE),"-") -> 0 | H29: =IFERROR(E29*B29*G29,"-") -> 0 | I29: =IFERROR(IF(VLOOKUP(A29,'Payment Dates'!$A:$B,2,FALSE)="monthly",4, MOD(MONTH(VLOOKUP(A29,'Payment Dates'!$A:$B,2,FALSE)),3)), "-") -> 0 | J29: =IFERROR(VLOOKUP(A29,'Detailed Dashboard'!$A:$AD,10,FALSE),"-") -> 0 | K29: =IFERROR(VLOOKUP(A26,'Detailed Dashboard'!$A:$AD,7,FALSE),"-") -> 0 | L29: =IFERROR(VLOOKUP(A26,'Detailed Dashboard'!$A:$AD,8,FALSE),"-") -> 0 | M29: =IFERROR(VLOOKUP(A26,'Detailed Dashboard'!$A:$AD,9,FALSE),"-") -> 0
C30: =IFERROR(VLOOKUP(A30,'Detailed Dashboard'!$A:$AD,19,FALSE),"-") -> 0 | D30: =IFERROR(F30/SUM($F$2:$F$51),"-") -> 0 | E30: =IFERROR(VLOOKUP(A30,'Detailed Dashboard'!$A:$AD,3,FALSE),"-") -> 0 | F30: =IFERROR(E30*B30,"-") -> 0 | G30: =IFERROR(VLOOKUP(A30,'Detailed Dashboard'!$A:$AD,6,FALSE),"-") -> 0 | H30: =IFERROR(E30*B30*G30,"-") -> 0 | I30: =IFERROR(IF(VLOOKUP(A30,'Payment Dates'!$A:$B,2,FALSE)="monthly",4, MOD(MONTH(VLOOKUP(A30,'Payment Dates'!$A:$B,2,FALSE)),3)), "-") -> 0 | J30: =IFERROR(VLOOKUP(A30,'Detailed Dashboard'!$A:$AD,10,FALSE),"-") -> 0 | K30: =IFERROR(VLOOKUP(A26,'Detailed Dashboard'!$A:$AD,7,FALSE),"-") -> 0 | L30: =IFERROR(VLOOKUP(A26,'Detailed Dashboard'!$A:$AD,8,FALSE),"-") -> 0 | M30: =IFERROR(VLOOKUP(A26,'Detailed Dashboard'!$A:$AD,9,FALSE),"-") -> 0
C31: =IFERROR(VLOOKUP(A31,'Detailed Dashboard'!$A:$AD,19,FALSE),"-") -> 0 | D31: =IFERROR(F31/SUM($F$2:$F$51),"-") -> 0 | E31: =IFERROR(VLOOKUP(A31,'Detailed Dashboard'!$A:$AD,3,FALSE),"-") -> 0 | F31: =IFERROR(E31*B31,"-") -> 0 | G31: =IFERROR(VLOOKUP(A31,'Detailed Dashboard'!$A:$AD,6,FALSE),"-") -> 0 | H31: =IFERROR(E31*B31*G31,"-") -> 0 | I31: =IFERROR(IF(VLOOKUP(A31,'Payment Dates'!$A:$B,2,FALSE)="monthly",4, MOD(MONTH(VLOOKUP(A31,'Payment Dates'!$A:$B,2,FALSE)),3)), "-") -> 0 | J31: =IFERROR(VLOOKUP(A31,'Detailed Dashboard'!$A:$AD,10,FALSE),"-") -> 0 | K31: =IFERROR(VLOOKUP(A26,'Detailed Dashboard'!$A:$AD,7,FALSE),"-") -> 0 | L31: =IFERROR(VLOOKUP(A26,'Detailed Dashboard'!$A:$AD,8,FALSE),"-") -> 0 | M31: =IFERROR(VLOOKUP(A26,'Detailed Dashboard'!$A:$AD,9,FALSE),"-") -> 0
C32: =IFERROR(VLOOKUP(A32,'Detailed Dashboard'!$A:$AD,19,FALSE),"-") -> 0 | D32: =IFERROR(F32/SUM($F$2:$F$51),"-") -> 0 | E32: =IFERROR(VLOOKUP(A32,'Detailed Dashboard'!$A:$AD,3,FALSE),"-") -> 0 | F32: =IFERROR(E32*B32,"-") -> 0 | G32: =IFERROR(VLOOKUP(A32,'Detailed Dashboard'!$A:$AD,6,FALSE),"-") -> 0 | H32: =IFERROR(E32*B32*G32,"-") -> 0 | I32: =IFERROR(IF(VLOOKUP(A32,'Payment Dates'!$A:$B,2,FALSE)="monthly",4, MOD(MONTH(VLOOKUP(A32,'Payment Dates'!$A:$B,2,FALSE)),3)), "-") -> 0 | J32: =IFERROR(VLOOKUP(A32,'Detailed Dashboard'!$A:$AD,10,FALSE),"-") -> 0 | K32: =IFERROR(VLOOKUP(A26,'Detailed Dashboard'!$A:$AD,7,FALSE),"-") -> 0 | L32: =IFERROR(VLOOKUP(A26,'Detailed Dashboard'!$A:$AD,8,FALSE),"-") -> 0 | M32: =IFERROR(VLOOKUP(A26,'Detailed Dashboard'!$A:$AD,9,FALSE),"-") -> 0
C33: =IFERROR(VLOOKUP(A33,'Detailed Dashboard'!$A:$AD,19,FALSE),"-") -> 0 | D33: =IFERROR(F33/SUM($F$2:$F$51),"-") -> 0 | E33: =IFERROR(VLOOKUP(A33,'Detailed Dashboard'!$A:$AD,3,FALSE),"-") -> 0 | F33: =IFERROR(E33*B33,"-") -> 0 | G33: =IFERROR(VLOOKUP(A33,'Detailed Dashboard'!$A:$AD,6,FALSE),"-") -> 0 | H33: =IFERROR(E33*B33*G33,"-") -> 0 | I33: =IFERROR(IF(VLOOKUP(A33,'Payment Dates'!$A:$B,2,FALSE)="monthly",4, MOD(MONTH(VLOOKUP(A33,'Payment Dates'!$A:$B,2,FALSE)),3)), "-") -> 0 | J33: =IFERROR(VLOOKUP(A33,'Detailed Dashboard'!$A:$AD,10,FALSE),"-") -> 0 | K33: =IFERROR(VLOOKUP(A26,'Detailed Dashboard'!$A:$AD,7,FALSE),"-") -> 0 | L33: =IFERROR(VLOOKUP(A26,'Detailed Dashboard'!$A:$AD,8,FALSE),"-") -> 0 | M33: =IFERROR(VLOOKUP(A26,'Detailed Dashboard'!$A:$AD,9,FALSE),"-") -> 0
C34: =IFERROR(VLOOKUP(A34,'Detailed Dashboard'!$A:$AD,19,FALSE),"-") -> 0 | D34: =IFERROR(F34/SUM($F$2:$F$51),"-") -> 0 | E34: =IFERROR(VLOOKUP(A34,'Detailed Dashboard'!$A:$AD,3,FALSE),"-") -> 0 | F34: =IFERROR(E34*B34,"-") -> 0 | G34: =IFERROR(VLOOKUP(A34,'Detailed Dashboard'!$A:$AD,6,FALSE),"-") -> 0 | H34: =IFERROR(E34*B34*G34,"-") -> 0 | I34: =IFERROR(IF(VLOOKUP(A34,'Payment Dates'!$A:$B,2,FALSE)="monthly",4, MOD(MONTH(VLOOKUP(A34,'Payment Dates'!$A:$B,2,FALSE)),3)), "-") -> 0 | J34: =IFERROR(VLOOKUP(A34,'Detailed Dashboard'!$A:$AD,10,FALSE),"-") -> 0 | K34: =IFERROR(VLOOKUP(A26,'Detailed Dashboard'!$A:$AD,7,FALSE),"-") -> 0 | L34: =IFERROR(VLOOKUP(A26,'Detailed Dashboard'!$A:$AD,8,FALSE),"-") -> 0 | M34: =IFERROR(VLOOKUP(A26,'Detailed Dashboard'!$A:$AD,9,FALSE),"-") -> 0
C35: =IFERROR(VLOOKUP(A35,'Detailed Dashboard'!$A:$AD,19,FALSE),"-") -> 0 | D35: =IFERROR(F35/SUM($F$2:$F$51),"-") -> 0 | E35: =IFERROR(VLOOKUP(A35,'Detailed Dashboard'!$A:$AD,3,FALSE),"-") -> 0 | F35: =IFERROR(E35*B35,"-") -> 0 | G35: =IFERROR(VLOOKUP(A35,'Detailed Dashboard'!$A:$AD,6,FALSE),"-") -> 0 | H35: =IFERROR(E35*B35*G35,"-") -> 0 | I35: =IFERROR(IF(VLOOKUP(A35,'Payment Dates'!$A:$B,2,FALSE)="monthly",4, MOD(MONTH(VLOOKUP(A35,'Payment Dates'!$A:$B,2,FALSE)),3)), "-") -> 0 | J35: =IFERROR(VLOOKUP(A35,'Detailed Dashboard'!$A:$AD,10,FALSE),"-") -> 0 | K35: =IFERROR(VLOOKUP(A26,'Detailed Dashboard'!$A:$AD,7,FALSE),"-") -> 0 | L35: =IFERROR(VLOOKUP(A26,'Detailed Dashboard'!$A:$AD,8,FALSE),"-") -> 0 | M35: =IFERROR(VLOOKUP(A26,'Detailed Dashboard'!$A:$AD,9,FALSE),"-") -> 0
C36: =IFERROR(VLOOKUP(A36,'Detailed Dashboard'!$A:$AD,19,FALSE),"-") -> 0 | D36: =IFERROR(F36/SUM($F$2:$F$51),"-") -> 0 | E36: =IFERROR(VLOOKUP(A36,'Detailed Dashboard'!$A:$AD,3,FALSE),"-") -> 0 | F36: =IFERROR(E36*B36,"-") -> 0 | G36: =IFERROR(VLOOKUP(A36,'Detailed Dashboard'!$A:$AD,6,FALSE),"-") -> 0 | H36: =IFERROR(E36*B36*G36,"-") -> 0 | I36: =IFERROR(IF(VLOOKUP(A36,'Payment Dates'!$A:$B,2,FALSE)="monthly",4, MOD(MONTH(VLOOKUP(A36,'Payment Dates'!$A:$B,2,FALSE)),3)), "-") -> 0 | J36: =IFERROR(VLOOKUP(A36,'Detailed Dashboard'!$A:$AD,10,FALSE),"-") -> 0 | K36: =IFERROR(VLOOKUP(A26,'Detailed Dashboard'!$A:$AD,7,FALSE),"-") -> 0 | L36: =IFERROR(VLOOKUP(A26,'Detailed Dashboard'!$A:$AD,8,FALSE),"-") -> 0 | M36: =IFERROR(VLOOKUP(A26,'Detailed Dashboard'!$A:$AD,9,FALSE),"-") -> 0
C37: =IFERROR(VLOOKUP(A37,'Detailed Dashboard'!$A:$AD,19,FALSE),"-") -> 0 | D37: =IFERROR(F37/SUM($F$2:$F$51),"-") -> 0 | E37: =IFERROR(VLOOKUP(A37,'Detailed Dashboard'!$A:$AD,3,FALSE),"-") -> 0 | F37: =IFERROR(E37*B37,"-") -> 0 | G37: =IFERROR(VLOOKUP(A37,'Detailed Dashboard'!$A:$AD,6,FALSE),"-") -> 0 | H37: =IFERROR(E37*B37*G37,"-") -> 0 | I37: =IFERROR(IF(VLOOKUP(A37,'Payment Dates'!$A:$B,2,FALSE)="monthly",4, MOD(MONTH(VLOOKUP(A37,'Payment Dates'!$A:$B,2,FALSE)),3)), "-") -> 0 | J37: =IFERROR(VLOOKUP(A37,'Detailed Dashboard'!$A:$AD,10,FALSE),"-") -> 0 | K37: =IFERROR(VLOOKUP(A26,'Detailed Dashboard'!$A:$AD,7,FALSE),"-") -> 0 | L37: =IFERROR(VLOOKUP(A26,'Detailed Dashboard'!$A:$AD,8,FALSE),"-") -> 0 | M37: =IFERROR(VLOOKUP(A26,'Detailed Dashboard'!$A:$AD,9,FALSE),"-") -> 0
C38: =IFERROR(VLOOKUP(A38,'Detailed Dashboard'!$A:$AD,19,FALSE),"-") -> 0 | D38: =IFERROR(F38/SUM($F$2:$F$51),"-") -> 0 | E38: =IFERROR(VLOOKUP(A38,'Detailed Dashboard'!$A:$AD,3,FALSE),"-") -> 0 | F38: =IFERROR(E38*B38,"-") -> 0 | G38: =IFERROR(VLOOKUP(A38,'Detailed Dashboard'!$A:$AD,6,FALSE),"-") -> 0 | H38: =IFERROR(E38*B38*G38,"-") -> 0 | I38: =IFERROR(IF(VLOOKUP(A38,'Payment Dates'!$A:$B,2,FALSE)="monthly",4, MOD(MONTH(VLOOKUP(A38,'Payment Dates'!$A:$B,2,FALSE)),3)), "-") -> 0 | J38: =IFERROR(VLOOKUP(A38,'Detailed Dashboard'!$A:$AD,10,FALSE),"-") -> 0 | K38: =IFERROR(VLOOKUP(A26,'Detailed Dashboard'!$A:$AD,7,FALSE),"-") -> 0 | L38: =IFERROR(VLOOKUP(A26,'Detailed Dashboard'!$A:$AD,8,FALSE),"-") -> 0 | M38: =IFERROR(VLOOKUP(A26,'Detailed Dashboard'!$A:$AD,9,FALSE),"-") -> 0
C39: =IFERROR(VLOOKUP(A39,'Detailed Dashboard'!$A:$AD,19,FALSE),"-") -> 0 | D39: =IFERROR(F39/SUM($F$2:$F$51),"-") -> 0 | E39: =IFERROR(VLOOKUP(A39,'Detailed Dashboard'!$A:$AD,3,FALSE),"-") -> 0 | F39: =IFERROR(E39*B39,"-") -> 0 | G39: =IFERROR(VLOOKUP(A39,'Detailed Dashboard'!$A:$AD,6,FALSE),"-") -> 0 | H39: =IFERROR(E39*B39*G39,"-") -> 0 | I39: =IFERROR(IF(VLOOKUP(A39,'Payment Dates'!$A:$B,2,FALSE)="monthly",4, MOD(MONTH(VLOOKUP(A39,'Payment Dates'!$A:$B,2,FALSE)),3)), "-") -> 0 | J39: =IFERROR(VLOOKUP(A39,'Detailed Dashboard'!$A:$AD,10,FALSE),"-") -> 0 | K39: =IFERROR(VLOOKUP(A26,'Detailed Dashboard'!$A:$AD,7,FALSE),"-") -> 0 | L39: =IFERROR(VLOOKUP(A26,'Detailed Dashboard'!$A:$AD,8,FALSE),"-") -> 0 | M39: =IFERROR(VLOOKUP(A26,'Detailed Dashboard'!$A:$AD,9,FALSE),"-") -> 0
C40: =IFERROR(VLOOKUP(A40,'Detailed Dashboard'!$A:$AD,19,FALSE),"-") -> 0 | D40: =IFERROR(F40/SUM($F$2:$F$51),"-") -> 0 | E40: =IFERROR(VLOOKUP(A40,'Detailed Dashboard'!$A:$AD,3,FALSE),"-") -> 0 | F40: =IFERROR(E40*B40,"-") -> 0 | G40: =IFERROR(VLOOKUP(A40,'Detailed Dashboard'!$A:$AD,6,FALSE),"-") -> 0 | H40: =IFERROR(E40*B40*G40,"-") -> 0 | I40: =IFERROR(IF(VLOOKUP(A40,'Payment Dates'!$A:$B,2,FALSE)="monthly",4, MOD(MONTH(VLOOKUP(A40,'Payment Dates'!$A:$B,2,FALSE)),3)), "-") -> 0 | J40: =IFERROR(VLOOKUP(A40,'Detailed Dashboard'!$A:$AD,10,FALSE),"-") -> 0 | K40: =IFERROR(VLOOKUP(A26,'Detailed Dashboard'!$A:$AD,7,FALSE),"-") -> 0 | L40: =IFERROR(VLOOKUP(A26,'Detailed Dashboard'!$A:$AD,8,FALSE),"-") -> 0 | M40: =IFERROR(VLOOKUP(A26,'Detailed Dashboard'!$A:$AD,9,FALSE),"-") -> 0
...

Sheet Payment Dates
A1: Stock Symbol | B1: Pay Date
A2: LUV | B2: 43838
A3: PTIZF | B3: N/A
A4: PMDKF | B4: N/A
A5: PBNNF | B5: N/A
A6: PTJSF | B6: N/A
A7: SSNLF | B7: N/A
A8: MSBHF | B8: N/A
A9: MZHOF | B9: N/A
A10: SMTUF | B10: N/A
A11: MBFJF | B11: N/A
A12: NTDMF | B12: N/A
A13: CMTDF | B13: N/A
A14: HACBF | B14: N/A
... A49: GPAEF | B49: N/A
A50: KCDMF | B50: 43804
A51: AFBOF | B51: N/A
A52: RCRRF | B52: N/A
A53: GGABF | B53: N/A
A54: MXCHF | B54: N/A
A55: SSDOF | B55: N/A
A56: SWDHF | B56: N/A
A57: YZCHF | B57: N/A
A58: CPKPF | B58: N/A
A59: BUGDF | B59: N/A
A60: SKLKF | B60: N/A
A61: CHBJF | B61: N/A
A62: HYSNF | B62: N/A
A63: COCSF | B63: N/A
A64: WHZT | B64: 43798
A65: LONKF | B65: N/A
A66: RBNTF | B66: N/A
A67: AYYLF | B67: N/A
A68: DIPGF | B68: N/A
A69: HLPPF | B69: N/A
A70: SGHIF | B70: N/A
A71: CRBJF | B71: N/A
A72: LEMB | B72: 43825
A73: SWRBF | B73: N/A
A74: KBDCF | B74: N/A
...

Sheet Notes
A1: Notes
A2: Data Provided by IEX Cloud
A3: Data updated on 2021-10-19
